BEGIN:VCALENDAR
VERSION:2.0
PRODID:-//SP Schweiz - ECPv6.15.14//NONSGML v1.0//EN
CALSCALE:GREGORIAN
METHOD:PUBLISH
X-WR-CALNAME:SP Schweiz
X-ORIGINAL-URL:https://www.sp-ps.ch
X-WR-CALDESC:Veranstaltungen für SP Schweiz
REFRESH-INTERVAL;VALUE=DURATION:PT1H
X-Robots-Tag:noindex
X-PUBLISHED-TTL:PT1H
BEGIN:VTIMEZONE
TZID:Europe/Zurich
BEGIN:DAYLIGHT
TZOFFSETFROM:+0100
TZOFFSETTO:+0200
TZNAME:CEST
DTSTART:20210328T010000
END:DAYLIGHT
BEGIN:STANDARD
TZOFFSETFROM:+0200
TZOFFSETTO:+0100
TZNAME:CET
DTSTART:20211031T010000
END:STANDARD
BEGIN:DAYLIGHT
TZOFFSETFROM:+0100
TZOFFSETTO:+0200
TZNAME:CEST
DTSTART:20220327T010000
END:DAYLIGHT
BEGIN:STANDARD
TZOFFSETFROM:+0200
TZOFFSETTO:+0100
TZNAME:CET
DTSTART:20221030T010000
END:STANDARD
BEGIN:DAYLIGHT
TZOFFSETFROM:+0100
TZOFFSETTO:+0200
TZNAME:CEST
DTSTART:20230326T010000
END:DAYLIGHT
BEGIN:STANDARD
TZOFFSETFROM:+0200
TZOFFSETTO:+0100
TZNAME:CET
DTSTART:20231029T010000
END:STANDARD
BEGIN:DAYLIGHT
TZOFFSETFROM:+0100
TZOFFSETTO:+0200
TZNAME:CEST
DTSTART:20240331T010000
END:DAYLIGHT
BEGIN:STANDARD
TZOFFSETFROM:+0200
TZOFFSETTO:+0100
TZNAME:CET
DTSTART:20241027T010000
END:STANDARD
BEGIN:DAYLIGHT
TZOFFSETFROM:+0100
TZOFFSETTO:+0200
TZNAME:CEST
DTSTART:20250330T010000
END:DAYLIGHT
BEGIN:STANDARD
TZOFFSETFROM:+0200
TZOFFSETTO:+0100
TZNAME:CET
DTSTART:20251026T010000
END:STANDARD
END:VTIMEZONE
BEGIN:VEVENT
DTSTART;VALUE=DATE:20241102
DTEND;VALUE=DATE:20241103
DTSTAMP:20260420T204045
CREATED:20230821T085741Z
LAST-MODIFIED:20241031T100852Z
UID:10001027-1730505600-1730591999@www.sp-ps.ch
SUMMARY:Delegiertenkonferenz SP Migrant:innen Schweiz – Bern
DESCRIPTION:Datum: Samstag\, 2. November 2024 \nZeit: 10:15 – 15:00 Uhr \nOrt: PROGR\, Waisenhausplatz 30\, Bern (Saal «Kleine Bühne») \nBitte aktiviere JavaScript in deinem Browser\, um dieses Formular fertigzustellen.Vorname *Name *E-Mail *Ich bin ... *Delegierte:rMitglied der SP / SP Migrant:inneninteressiert und komme als GastSektionBemerkungenAnmelden   \nTraktanden und Beilagen \n\nTraktandenliste\nProtokoll der Delegiertenversammlung vom 23.3.24\nEntwurf Resolution Kitas und Sprachförderung\nResolution Deradikalisierung\nResolution Bürgerrecht\nJahresziele
URL:https://www.sp-ps.ch/veranstaltung/delegiertenkonferenz-sp-migrantinnen-schweiz-bern-4/
LOCATION:PROGR\, Waisenhausplatz 30\, Bern (dort Saal «Kleine Bühne»)
END:VEVENT
BEGIN:VEVENT
DTSTART;TZID=Europe/Zurich:20221105T101500
DTEND;TZID=Europe/Zurich:20221105T140000
DTSTAMP:20260420T204045
CREATED:20220817T074053Z
LAST-MODIFIED:20221103T170047Z
UID:10000767-1667643300-1667656800@www.sp-ps.ch
SUMMARY:Delegiertenkonferenz SP Migrant:innen Schweiz - Bern
DESCRIPTION:Ort: PROGR\, Waisenhausplatz 30\, Bern (Saal «Kleine Bühne») \nDokumente \n\n\n\nTraktandenliste\nJahresplanung 2023 der SP MigrantInnen Schweiz\nBeilage 0 – Protokoll der letzten Delegiertenkonferenz\nBeilage 1 – SP Migrant:innen Jahresziele 2023\nBeilage 2 – Wahlkampf 2023 SP-Migrant:innen
URL:https://www.sp-ps.ch/veranstaltung/delegiertenkonferenz-sp-migrantinnen/
LOCATION:PROGR\, Waisenhausplatz 30\, Bern (dort Saal «Kleine Bühne»)
END:VEVENT
END:VCALENDAR