BEGIN:VCALENDAR
VERSION:2.0
PRODID:-//PS Suisse - ECPv6.15.14//NONSGML v1.0//EN
CALSCALE:GREGORIAN
METHOD:PUBLISH
X-WR-CALNAME:PS Suisse
X-ORIGINAL-URL:https://www.sp-ps.ch/fr/
X-WR-CALDESC:Évènements pour PS Suisse
REFRESH-INTERVAL;VALUE=DURATION:PT1H
X-Robots-Tag:noindex
X-PUBLISHED-TTL:PT1H
BEGIN:VTIMEZONE
TZID:Europe/Zurich
BEGIN:DAYLIGHT
TZOFFSETFROM:+0100
TZOFFSETTO:+0200
TZNAME:CEST
DTSTART:20220327T010000
END:DAYLIGHT
BEGIN:STANDARD
TZOFFSETFROM:+0200
TZOFFSETTO:+0100
TZNAME:CET
DTSTART:20221030T010000
END:STANDARD
BEGIN:DAYLIGHT
TZOFFSETFROM:+0100
TZOFFSETTO:+0200
TZNAME:CEST
DTSTART:20230326T010000
END:DAYLIGHT
BEGIN:STANDARD
TZOFFSETFROM:+0200
TZOFFSETTO:+0100
TZNAME:CET
DTSTART:20231029T010000
END:STANDARD
BEGIN:DAYLIGHT
TZOFFSETFROM:+0100
TZOFFSETTO:+0200
TZNAME:CEST
DTSTART:20240331T010000
END:DAYLIGHT
BEGIN:STANDARD
TZOFFSETFROM:+0200
TZOFFSETTO:+0100
TZNAME:CET
DTSTART:20241027T010000
END:STANDARD
END:VTIMEZONE
BEGIN:VEVENT
DTSTART;TZID=Europe/Zurich:20230523T191500
DTEND;TZID=Europe/Zurich:20230523T203000
DTSTAMP:20260420T111236
CREATED:20230503T091845Z
LAST-MODIFIED:20230503T094256Z
UID:98330-1684869300-1684873800@www.sp-ps.ch
SUMMARY:Approfondir les thèmes de la campagne électorale avec la Présidence
DESCRIPTION:Lieu: En ligne \nContenu: Présentation et approfondissement de nos thèmes et de nos principaux arguments pour les élections nationales de 2023 \nObjectifs : Les participant-e-s \n\napprennent à connaître nos thèmes principaux\, nos positions et les arguments en la matière.\npeuvent clarifier des questions.\nsont ensuite prêt-e-s à défendre les positions du PS lors de discussions\, d’interviews\, face aux électeur-trices\, etc.\n\nPublic cible: Les candidat-e-s du PS aux élections nationales 2023 \nIntervenant: Samuel Bendahan\, vice-président du PS Suisse \nInterlocuteur/trice: Nevin Hammad  \nInscription: www.sp-ps.ch/offres
URL:https://www.sp-ps.ch/fr/agenda/approfondir-les-themes-de-la-campagne-electorale-avec-la-presidence/
CATEGORIES:Formation,Membres exerçant des fonctions officielles (au sein d’autorités)
END:VEVENT
END:VCALENDAR