BEGIN:VCALENDAR
VERSION:2.0
PRODID:-//PS Suisse - ECPv6.15.14//NONSGML v1.0//EN
CALSCALE:GREGORIAN
METHOD:PUBLISH
X-WR-CALNAME:PS Suisse
X-ORIGINAL-URL:https://www.sp-ps.ch/fr/
X-WR-CALDESC:Évènements pour PS Suisse
REFRESH-INTERVAL;VALUE=DURATION:PT1H
X-Robots-Tag:noindex
X-PUBLISHED-TTL:PT1H
BEGIN:VTIMEZONE
TZID:Europe/Zurich
BEGIN:DAYLIGHT
TZOFFSETFROM:+0100
TZOFFSETTO:+0200
TZNAME:CEST
DTSTART:20250330T010000
END:DAYLIGHT
BEGIN:STANDARD
TZOFFSETFROM:+0200
TZOFFSETTO:+0100
TZNAME:CET
DTSTART:20251026T010000
END:STANDARD
BEGIN:DAYLIGHT
TZOFFSETFROM:+0100
TZOFFSETTO:+0200
TZNAME:CEST
DTSTART:20260329T010000
END:DAYLIGHT
BEGIN:STANDARD
TZOFFSETFROM:+0200
TZOFFSETTO:+0100
TZNAME:CET
DTSTART:20261025T010000
END:STANDARD
BEGIN:DAYLIGHT
TZOFFSETFROM:+0100
TZOFFSETTO:+0200
TZNAME:CEST
DTSTART:20270328T010000
END:DAYLIGHT
BEGIN:STANDARD
TZOFFSETFROM:+0200
TZOFFSETTO:+0100
TZNAME:CET
DTSTART:20271031T010000
END:STANDARD
END:VTIMEZONE
BEGIN:VEVENT
DTSTART;TZID=Europe/Zurich:20260424T111500
DTEND;TZID=Europe/Zurich:20260424T150000
DTSTAMP:20260422T180130
CREATED:20250724T074223Z
LAST-MODIFIED:20260421T134213Z
UID:165662-1777029300-1777042800@www.sp-ps.ch
SUMMARY:Assemblée des délégué-es du PS60+
DESCRIPTION:Ordre du jour définitif\n\nVendredi 24 avril 2026\, 11h15 – 15h00\nLieu: Kongresszentrum Kreuz\, Zeughausstrasse 41\, 3011 Berne\nSalle «Bovet»\, 1er étage\, plan d’accès\nPrésidence : Rita Schmid / Dominique Hausser (coprésidence)\n\n  \n1) Bienvenue \n\nAccueil des nouveaux délégué-es\nDépart des ancien-nes délégué-es\n\n  \n2) Ordre du jour  \n\nOrde du jour définitif\n\n  \n3) Procès-verbaux \n\nProcès-verbal de l’AD du 21 novembre 2025\nCompte rendu d’André Liechti\nProcès-verbal de l’AD du 24 janvier 2026\nCompte rendu d’André Liechti\n\n  \n4) Priorité au système de santé \n\nRésolution pour la conférence des membres du 12 juin 2026\nDocument de travail du PS60+ (en français\, paraîtra à l’occasion du CM en allemand et en français)\nMandat confié au comité directeur\n\n  \n5) Convocation de la conference des membres \n\nProposition d’ordre du jour\nMandat confié au comité directeur\n\n  \n6) Pause avec collation 12h30 – 13h15 \n  \n7) L’initiative du Chaos de l’UDC \n\nRésolution « Tenir tête à l’initiative du chaos »\, version envoi 1\nRésolution « Tenir tête à l’initiative du chaos »\, version de complément\nFact Sheet « Détruire les bilatérales ? »\nSuite de la procédure\n\n  \n8) L’avenir de la politique financière \n\nRésolution « Pour une politique financière humaine et durable »\nDossier sur le frein à l’endettement\nSuite de la procédure\n\n  \n9) Des groupes cantonaux \n\nPS60+ du canton de Lucerne\nPS60+ vaudois\nPS60+ du canton de Zurich\n\n  \n10) Informations \n12.06.2026 : conférence des membres du PS60+ \n14.06.2026 : objets de la votations populaire \n26.09.2026 : assemblée des délégué-es du PS60+ \n  \n11) Divers \n  \nInscription\nVeuillez activer JavaScript dans votre navigateur pour remplir ce formulaire.Kantonalpartei / Parti cantonal *Vorname / Prénom *Nachname / Nom  *E-Mail-Adresse / Courriel  *Anmeldung / Inscription *Delegiertenversammlung /  Assemblée des délégué-es 24.04.2026Mitgliederkonferenz / Conférence des membre 12.06.2026Delegiertenversammlung /  Assemblée des délégué-es 26.09.2026		\n			 / /\n			\n		\n		Bemerkungen / Remarquesabsenden / envoyer
URL:https://www.sp-ps.ch/fr/agenda/assemblee-des-delegue-es-du-ps60-2026-04-24/
LOCATION:Hotel Kreuz\, Zeughausgasse 41\, 3011 Bern\, Hotel Kreuz\, Zeughausgasse 41\, Bern
ATTACH;FMTTYPE=image/jpeg:https://www.sp-ps.ch/wp-content/uploads/2025/07/kongresszentrum_kreuz_kongressraeume_bovet_detail_2-1.jpg
ORGANIZER;CN="SP60+":MAILTO:60plus@spschweiz.ch
END:VEVENT
END:VCALENDAR