BEGIN:VCALENDAR
VERSION:2.0
PRODID:-//PS Suisse - ECPv6.15.14//NONSGML v1.0//EN
CALSCALE:GREGORIAN
METHOD:PUBLISH
X-WR-CALNAME:PS Suisse
X-ORIGINAL-URL:https://www.sp-ps.ch/fr/
X-WR-CALDESC:Évènements pour PS Suisse
REFRESH-INTERVAL;VALUE=DURATION:PT1H
X-Robots-Tag:noindex
X-PUBLISHED-TTL:PT1H
BEGIN:VTIMEZONE
TZID:Europe/Zurich
BEGIN:DAYLIGHT
TZOFFSETFROM:+0100
TZOFFSETTO:+0200
TZNAME:CEST
DTSTART:20220327T010000
END:DAYLIGHT
BEGIN:STANDARD
TZOFFSETFROM:+0200
TZOFFSETTO:+0100
TZNAME:CET
DTSTART:20221030T010000
END:STANDARD
BEGIN:DAYLIGHT
TZOFFSETFROM:+0100
TZOFFSETTO:+0200
TZNAME:CEST
DTSTART:20230326T010000
END:DAYLIGHT
BEGIN:STANDARD
TZOFFSETFROM:+0200
TZOFFSETTO:+0100
TZNAME:CET
DTSTART:20231029T010000
END:STANDARD
BEGIN:DAYLIGHT
TZOFFSETFROM:+0100
TZOFFSETTO:+0200
TZNAME:CEST
DTSTART:20240331T010000
END:DAYLIGHT
BEGIN:STANDARD
TZOFFSETFROM:+0200
TZOFFSETTO:+0100
TZNAME:CET
DTSTART:20241027T010000
END:STANDARD
END:VTIMEZONE
BEGIN:VEVENT
DTSTART;TZID=Europe/Zurich:20230930T133000
DTEND;TZID=Europe/Zurich:20230930T163000
DTSTAMP:20260420T232911
CREATED:20230819T171158Z
LAST-MODIFIED:20230930T052537Z
UID:109938-1696080600-1696091400@www.sp-ps.ch
SUMMARY:Assemblée des membres des Femmes socialistes
DESCRIPTION:Lors de notre assemblée des membres\, nous discuterons de la collaboration avec Alliance F et élirons deux nouvelles membres du Comité directeur des Femmes socialistes ainsi que les déléguées pour les Congrès du PS.  Comme nous serons en pleine campagne électorale en fin septembre\, nous allons évidemment aussi mobiliser pour les élections ce jour-là : de 10h00 à 12h00\, nous essayerons de contacter par téléphone le plus grand nombre possible de personnes afin de leur rappeler de voter pour le PS. \nDate :\nLe samedi 30 septembre 2023 \nHeures :De 10h00 à 12h00 : action pour les élections\nDe 13h30 à 16h00 : Assemblée des membres \nLieu :\nSalle Farel\, Quai de haut 12\, 2503 Bienne \nOrdre du jour\nRèglement de l’assemblée\nA1: alliance F – Comment continuer ?\nA2: Campagne “Pour de bonnes rentes des femmes”\nProcès-verbal de l’assemblée du 25 mars \nÉlections :\nLors de notre assemblée des membres\, nous élirons deux nouvelles membres au comité directeur. Candidatures reçues (les lettres de motivation seront envoyées à toutes les camarades inscrites) : \n\nMandy Abou Shoak\nAleksandra Zdravkovic\n\nNous élirons également 10 déléguées pour les congrès du PS. Candidatures reçues: \n\nMarilena Corti\, bisher\, Solothurn\nVirginia Koepfli\, bisher\, Zug\nTomoko Latteier\, neu\, Basel-Stadt\nSophie Laville\, neu\, Basel-Stadt\nJanine Meier\, neu\, Basel-Stadt\nMoana Mika\, neu\, Bern\nEstelle Revaz\, bisher\, Genève\nMartine Rouiller\, neu\, Valais romand\nLaurie Willommet\, bisher\, Vaud\n\nDélai pour les candidatures\, les résolutions et les demandes :\nLe délai pour des candidatures\, résolutions et propositions a expiré le 9 septembre. \n 
URL:https://www.sp-ps.ch/fr/agenda/assemblee-femmes-socialistes-30-9-23/
LOCATION:Farelhaus Biel\, Oberer Quai 12 / Quai du haut 12\, Biel / Bienne\, 2502
ATTACH;FMTTYPE=image/jpeg:https://www.sp-ps.ch/wp-content/uploads/2023/08/A7B01696-scaled.jpeg
END:VEVENT
END:VCALENDAR