BEGIN:VCALENDAR
VERSION:2.0
PRODID:-//PS Suisse - ECPv6.15.14//NONSGML v1.0//EN
CALSCALE:GREGORIAN
METHOD:PUBLISH
X-WR-CALNAME:PS Suisse
X-ORIGINAL-URL:https://www.sp-ps.ch/fr/
X-WR-CALDESC:Évènements pour PS Suisse
REFRESH-INTERVAL;VALUE=DURATION:PT1H
X-Robots-Tag:noindex
X-PUBLISHED-TTL:PT1H
BEGIN:VTIMEZONE
TZID:Europe/Zurich
BEGIN:DAYLIGHT
TZOFFSETFROM:+0100
TZOFFSETTO:+0200
TZNAME:CEST
DTSTART:20140330T010000
END:DAYLIGHT
BEGIN:STANDARD
TZOFFSETFROM:+0200
TZOFFSETTO:+0100
TZNAME:CET
DTSTART:20141026T010000
END:STANDARD
BEGIN:DAYLIGHT
TZOFFSETFROM:+0100
TZOFFSETTO:+0200
TZNAME:CEST
DTSTART:20150329T010000
END:DAYLIGHT
BEGIN:STANDARD
TZOFFSETFROM:+0200
TZOFFSETTO:+0100
TZNAME:CET
DTSTART:20151025T010000
END:STANDARD
BEGIN:DAYLIGHT
TZOFFSETFROM:+0100
TZOFFSETTO:+0200
TZNAME:CEST
DTSTART:20160327T010000
END:DAYLIGHT
BEGIN:STANDARD
TZOFFSETFROM:+0200
TZOFFSETTO:+0100
TZNAME:CET
DTSTART:20161030T010000
END:STANDARD
END:VTIMEZONE
BEGIN:VEVENT
DTSTART;TZID=Europe/Zurich:20150509T081500
DTEND;TZID=Europe/Zurich:20150509T081500
DTSTAMP:20260419T180116
CREATED:20150402T142512Z
LAST-MODIFIED:20230809T120353Z
UID:59608-1431159300-1431159300@www.sp-ps.ch
SUMMARY:Congrès du PS Migrant-es
DESCRIPTION:Cette rencontre permettra de lancer la campagne du PS Migrant-es\, de discuter et d’adopter un manifeste électoral et d’élire la présidence du PS Migrant-es. L’accent sera mis sur une deux questions centrales\, à savoir\, comment rallier les voix des migrant-es lors des élections fédérales de cet automne et comment garantir le droit à une représentation adéquate des migrant-es au parlement fédéral. \nConsulter le document ci-dessous. \n\n\n\n\n\n\n\n        \n            \n                                                \n\n                                        \n                        img_9618_2img_9628_2img_9636_2img_9645_2img_9652_2img_9688_2img_9700_2img_9701_2img_9708_2img_9710_2img_9724_2img_9729_2img_9730_2img_9736_2img_9744_2img_9759_2img_9775_2img_9794_2img_9799_2img_9805_2img_9810_2img_9814_2
URL:https://www.sp-ps.ch/fr/agenda/congres-du-ps-migrant-e-s/
END:VEVENT
END:VCALENDAR