BEGIN:VCALENDAR
VERSION:2.0
PRODID:-//PS Suisse - ECPv6.15.14//NONSGML v1.0//EN
CALSCALE:GREGORIAN
METHOD:PUBLISH
X-WR-CALNAME:PS Suisse
X-ORIGINAL-URL:https://www.sp-ps.ch/fr/
X-WR-CALDESC:Évènements pour PS Suisse
REFRESH-INTERVAL;VALUE=DURATION:PT1H
X-Robots-Tag:noindex
X-PUBLISHED-TTL:PT1H
BEGIN:VTIMEZONE
TZID:Europe/Zurich
BEGIN:DAYLIGHT
TZOFFSETFROM:+0100
TZOFFSETTO:+0200
TZNAME:CEST
DTSTART:20210328T010000
END:DAYLIGHT
BEGIN:STANDARD
TZOFFSETFROM:+0200
TZOFFSETTO:+0100
TZNAME:CET
DTSTART:20211031T010000
END:STANDARD
BEGIN:DAYLIGHT
TZOFFSETFROM:+0100
TZOFFSETTO:+0200
TZNAME:CEST
DTSTART:20220327T010000
END:DAYLIGHT
BEGIN:STANDARD
TZOFFSETFROM:+0200
TZOFFSETTO:+0100
TZNAME:CET
DTSTART:20221030T010000
END:STANDARD
BEGIN:DAYLIGHT
TZOFFSETFROM:+0100
TZOFFSETTO:+0200
TZNAME:CEST
DTSTART:20230326T010000
END:DAYLIGHT
BEGIN:STANDARD
TZOFFSETFROM:+0200
TZOFFSETTO:+0100
TZNAME:CET
DTSTART:20231029T010000
END:STANDARD
END:VTIMEZONE
BEGIN:VEVENT
DTSTART;TZID=Europe/Zurich:20220907T191500
DTEND;TZID=Europe/Zurich:20220907T201500
DTSTAMP:20260420T184403
CREATED:20220818T142531Z
LAST-MODIFIED:20220819T082631Z
UID:74906-1662578100-1662581700@www.sp-ps.ch
SUMMARY:Formation en ligne sur la suppression de lʼimpôt anticipé
DESCRIPTION:Le 25 septembre\, nous voterons sur la suppression de lʼimpôt anticipé. Lʼenjeu est de taille : le projet est un cadeau fait à un petit nombre de grandes entreprises et de gros investisseurs\, favorisant la criminalité fiscale et entraînant des pertes fiscales immenses. Finalement\, ce sont une fois de plus les citoyennes et les citoyens qui devraient payer pour compenser ces montants. \nTu es à la recherche des meilleurs arguments pour les podiums ou les stands ? Ou tu veux simplement en savoir plus sur le sujet ? Alors inscris-toi dès maintenant à une formation en ligne sur la suppression de lʼimpôt anticipé mercredi 7 septembre avec Emmanuel Amoos. \nLes formations en ligne commencent à 19h15 et durent environ une heure. Nous présenterons les principaux arguments nécessaires pour convaincre son entourage\, et il sera possible de poser des questions. \nNous nous réjouissons de ta participation ! \nVeuillez activer JavaScript dans votre navigateur pour remplir ce formulaire.Salutations *4 choixMadameMonsieurautreNom *PrénomNomCourriel *Je participe à la formation en ligne sur la suppression de lʼimpôt anticipé : *Lundi 29 août avec Baptiste Hurni (19h15)Mercredi 7 septembre avec Emmanuel Amoos (19h15)En mʼinscrivant à la formation\, jʼaccepte dʼêtre tenu-e au courant par le PS Suisse. En savoir plusEnvoyer
URL:https://www.sp-ps.ch/fr/agenda/formation-en-ligne-sur-la-suppression-de-l%ca%bcimpot-anticipe-2/
END:VEVENT
END:VCALENDAR