BEGIN:VCALENDAR
VERSION:2.0
PRODID:-//PS Suisse - ECPv6.15.14//NONSGML v1.0//EN
CALSCALE:GREGORIAN
METHOD:PUBLISH
X-WR-CALNAME:PS Suisse
X-ORIGINAL-URL:https://www.sp-ps.ch/fr/
X-WR-CALDESC:Évènements pour PS Suisse
REFRESH-INTERVAL;VALUE=DURATION:PT1H
X-Robots-Tag:noindex
X-PUBLISHED-TTL:PT1H
BEGIN:VTIMEZONE
TZID:Europe/Zurich
BEGIN:DAYLIGHT
TZOFFSETFROM:+0100
TZOFFSETTO:+0200
TZNAME:CEST
DTSTART:20250330T010000
END:DAYLIGHT
BEGIN:STANDARD
TZOFFSETFROM:+0200
TZOFFSETTO:+0100
TZNAME:CET
DTSTART:20251026T010000
END:STANDARD
BEGIN:DAYLIGHT
TZOFFSETFROM:+0100
TZOFFSETTO:+0200
TZNAME:CEST
DTSTART:20260329T010000
END:DAYLIGHT
BEGIN:STANDARD
TZOFFSETFROM:+0200
TZOFFSETTO:+0100
TZNAME:CET
DTSTART:20261025T010000
END:STANDARD
BEGIN:DAYLIGHT
TZOFFSETFROM:+0100
TZOFFSETTO:+0200
TZNAME:CEST
DTSTART:20270328T010000
END:DAYLIGHT
BEGIN:STANDARD
TZOFFSETFROM:+0200
TZOFFSETTO:+0100
TZNAME:CET
DTSTART:20271031T010000
END:STANDARD
END:VTIMEZONE
BEGIN:VEVENT
DTSTART;TZID=Europe/Zurich:20260512T183000
DTEND;TZID=Europe/Zurich:20260512T200000
DTSTAMP:20260423T215205
CREATED:20260327T095802Z
LAST-MODIFIED:20260408T125537Z
UID:181004-1778610600-1778616000@www.sp-ps.ch
SUMMARY:La montée de la droite en Suisse
DESCRIPTION:Le 14 juin\, l’« initiative du chaos » de l’UDC sera soumise au vote. Cette initiative s’inscrit parfaitement dans une série d’initiatives qui attisent la haine contre les étranger-ères\, discriminent des groupes entiers de la population et causent un préjudice considérable à la Suisse. Ces initiatives ne sont pas nouvelles. Mais pourquoi l’UDC parvient-elle sans cesse à mobiliser autour de ce thème ? \nDans le deuxième volet du cycle de formations « Glissement à droite mondial – que faire ? »\, nous discuterons ensemble de la manière dont les forces de droite ont réussi à s’imposer en Suisse – des initiatives Schwarzenbach à l’ascension de l’UDC dans les années 1990\, en passant par l’actuelle « initiative du chaos ». Nous examinerons les revendications et les discours utilisés par les partis de droite\, ainsi que les raisons pour lesquelles ceux-ci trouvent un écho favorable. \n  \n\n\n\n\n\n\n\n\n\n\n\n\n\n\n\n\n\n\n\n\nVoir plus d’informations\n  \nDate et lieu \nMardi 12 mai 2026\, 18:30-20:00\, en ligne via Zoom \n  \nPublic cible \nMembres et Intéressées \n  \nIntervenant-es \nSamuel Bendahan\, Co-président du Groupe socialiste aux Chambres fédérales \nGianni D’Amato\, Professeur ordinaire en études de la migration et de la citoyenneté \n  \nPersonne de contact \nLucius Spilker\, lucius.spilker@spschweiz.ch \n  \nRemarque \nLes deux parts de la série de événements peuvent être suivies indépendamment l’une de l’autre. \n  \nDélai d’inscription \n11.05.2026 \n  \nInformation \nPour des raisons de protection de données\, nous n’enregistrons pas nos évènements en ligne. Cependant\, nous envoyons après la formation toute la documentation disponible aux participant-es inscrit-es. \n\n  \nInscription \nVeuillez activer JavaScript dans votre navigateur pour remplir ce formulaire.Prénom *Nom *E-mail *		\n			page Mise Quelle\n			\n		\n		DatenschutzerklärungJ'accepte la déclaration de confidentialité et suis d'accord pour que le PS continue à m'informer. En savoir plus ici.Envoyer
URL:https://www.sp-ps.ch/fr/agenda/la-montee-de-la-droite-en-suisse/
LOCATION:En ligne
CATEGORIES:Formation,Formation pour les membres et les personnes intéressées
END:VEVENT
END:VCALENDAR