BEGIN:VCALENDAR
VERSION:2.0
PRODID:-//PS Suisse - ECPv6.15.14//NONSGML v1.0//EN
CALSCALE:GREGORIAN
METHOD:PUBLISH
X-WR-CALNAME:PS Suisse
X-ORIGINAL-URL:https://www.sp-ps.ch/fr/
X-WR-CALDESC:Évènements pour PS Suisse
REFRESH-INTERVAL;VALUE=DURATION:PT1H
X-Robots-Tag:noindex
X-PUBLISHED-TTL:PT1H
BEGIN:VTIMEZONE
TZID:Europe/Zurich
BEGIN:DAYLIGHT
TZOFFSETFROM:+0100
TZOFFSETTO:+0200
TZNAME:CEST
DTSTART:20210328T010000
END:DAYLIGHT
BEGIN:STANDARD
TZOFFSETFROM:+0200
TZOFFSETTO:+0100
TZNAME:CET
DTSTART:20211031T010000
END:STANDARD
BEGIN:DAYLIGHT
TZOFFSETFROM:+0100
TZOFFSETTO:+0200
TZNAME:CEST
DTSTART:20220327T010000
END:DAYLIGHT
BEGIN:STANDARD
TZOFFSETFROM:+0200
TZOFFSETTO:+0100
TZNAME:CET
DTSTART:20221030T010000
END:STANDARD
BEGIN:DAYLIGHT
TZOFFSETFROM:+0100
TZOFFSETTO:+0200
TZNAME:CEST
DTSTART:20230326T010000
END:DAYLIGHT
BEGIN:STANDARD
TZOFFSETFROM:+0200
TZOFFSETTO:+0100
TZNAME:CET
DTSTART:20231029T010000
END:STANDARD
END:VTIMEZONE
BEGIN:VEVENT
DTSTART;VALUE=DATE:20221111
DTEND;VALUE=DATE:20221112
DTSTAMP:20260420T184359
CREATED:20211020T132543Z
LAST-MODIFIED:20221221T143652Z
UID:59582-1668124800-1668211199@www.sp-ps.ch
SUMMARY:Séance du Conseil de parti du PS Suisse
DESCRIPTION:Tu trouveras ici les documents adoptés lors de la séance du Conseil de parti du 11 novembre 2022 à Bellinzona. \n\nPrise de position : La pauvreté en Suisse\nRésolution: Autodétermination numérique\nRésolution: Enfin progresser en matière d’égalité – concrètement et à tous les niveaux\nRésolution: Reconnaissance et traitement du covid long\, soutien aux personnes actives dans notre système de santé
URL:https://www.sp-ps.ch/fr/agenda/seance-du-conseil-de-parti-du-ps-suisse-3/
LOCATION:Bellinzona
CATEGORIES:Conseil de parti
END:VEVENT
END:VCALENDAR