BEGIN:VCALENDAR
VERSION:2.0
PRODID:-//PS Suisse - ECPv6.15.14//NONSGML v1.0//EN
CALSCALE:GREGORIAN
METHOD:PUBLISH
X-WR-CALNAME:PS Suisse
X-ORIGINAL-URL:https://www.sp-ps.ch/fr/
X-WR-CALDESC:Évènements pour PS Suisse
REFRESH-INTERVAL;VALUE=DURATION:PT1H
X-Robots-Tag:noindex
X-PUBLISHED-TTL:PT1H
BEGIN:VTIMEZONE
TZID:Europe/Zurich
BEGIN:DAYLIGHT
TZOFFSETFROM:+0100
TZOFFSETTO:+0200
TZNAME:CEST
DTSTART:20210328T010000
END:DAYLIGHT
BEGIN:STANDARD
TZOFFSETFROM:+0200
TZOFFSETTO:+0100
TZNAME:CET
DTSTART:20211031T010000
END:STANDARD
BEGIN:DAYLIGHT
TZOFFSETFROM:+0100
TZOFFSETTO:+0200
TZNAME:CEST
DTSTART:20220327T010000
END:DAYLIGHT
BEGIN:STANDARD
TZOFFSETFROM:+0200
TZOFFSETTO:+0100
TZNAME:CET
DTSTART:20221030T010000
END:STANDARD
BEGIN:DAYLIGHT
TZOFFSETFROM:+0100
TZOFFSETTO:+0200
TZNAME:CEST
DTSTART:20230326T010000
END:DAYLIGHT
BEGIN:STANDARD
TZOFFSETFROM:+0200
TZOFFSETTO:+0100
TZNAME:CET
DTSTART:20231029T010000
END:STANDARD
END:VTIMEZONE
BEGIN:VEVENT
DTSTART;TZID=Europe/Zurich:20220926T181500
DTEND;TZID=Europe/Zurich:20220926T204500
DTSTAMP:20260420T165453
CREATED:20220527T094604Z
LAST-MODIFIED:20220527T094604Z
UID:111859-1664216100-1664225100@www.sp-ps.ch
SUMMARY:Table ronde sur l'énergie
DESCRIPTION:Tournant énergétique\, comment s’y prendre ? Tu t’es certainement déjà posée cette question ! \nC’est pour cette raison que nous t’invitons avec plaisir à la deuxième table ronde sur l’énergie avec nos spécialistes de la politique énergétique\, les Conseillères nationales du PS\, Nadine Masshardt et Martina Munz. Nous voulons parler avec toi de la transition énergétique\, renforcer notre perspective féministe\, générer des idées\, approfondir nos connaissances et créer des liens. Tu as une question particulière sur ce thème ? Nous prendrons le temps d’y répondre. Si possible\, soumets-la déjà via le formulaire d’inscription. \nNous nous retrouverons au Business Center Vatter dans la salle Adrian Frutiger (Bärenplatz 2\, 3011 Berne). \n\n18:15 Arrivée des participantes\, échange mutuel.\n19:00 Présentation des conseillères nationales socialistes Nadine Masshardt et Martina Munz : thèmes actuels de la session d’automne.\n19:30 Discussion avec les participantes : idées\, propositions\, questions\, intérêts particuliers.\n20:30 Fin de l’événement. Il sera possible de prendre les trains de 21h.\n\nL’événement se déroulera en bon allemand. Des boissons et des petites choses à grignoter seront prévues. \nLe délai d’inscription est dépassé. \n 
URL:https://www.sp-ps.ch/fr/agenda/table-ronde-sur-lenergie-2/
END:VEVENT
END:VCALENDAR