BEGIN:VCALENDAR
VERSION:2.0
PRODID:-//PS Suisse - ECPv6.15.14//NONSGML v1.0//EN
CALSCALE:GREGORIAN
METHOD:PUBLISH
X-WR-CALNAME:PS Suisse
X-ORIGINAL-URL:https://www.sp-ps.ch/fr/
X-WR-CALDESC:Évènements pour PS Suisse
REFRESH-INTERVAL;VALUE=DURATION:PT1H
X-Robots-Tag:noindex
X-PUBLISHED-TTL:PT1H
BEGIN:VTIMEZONE
TZID:Europe/Zurich
BEGIN:DAYLIGHT
TZOFFSETFROM:+0100
TZOFFSETTO:+0200
TZNAME:CEST
DTSTART:20220327T010000
END:DAYLIGHT
BEGIN:STANDARD
TZOFFSETFROM:+0200
TZOFFSETTO:+0100
TZNAME:CET
DTSTART:20221030T010000
END:STANDARD
BEGIN:DAYLIGHT
TZOFFSETFROM:+0100
TZOFFSETTO:+0200
TZNAME:CEST
DTSTART:20230326T010000
END:DAYLIGHT
BEGIN:STANDARD
TZOFFSETFROM:+0200
TZOFFSETTO:+0100
TZNAME:CET
DTSTART:20231029T010000
END:STANDARD
BEGIN:DAYLIGHT
TZOFFSETFROM:+0100
TZOFFSETTO:+0200
TZNAME:CEST
DTSTART:20240331T010000
END:DAYLIGHT
BEGIN:STANDARD
TZOFFSETFROM:+0200
TZOFFSETTO:+0100
TZNAME:CET
DTSTART:20241027T010000
END:STANDARD
END:VTIMEZONE
BEGIN:VEVENT
DTSTART;TZID=Europe/Zurich:20230405T193000
DTEND;TZID=Europe/Zurich:20230405T210000
DTSTAMP:20260424T034633
CREATED:20230327T080332Z
LAST-MODIFIED:20230327T105425Z
UID:95094-1680723000-1680728400@www.sp-ps.ch
SUMMARY:Webinaire Participation
DESCRIPTION:Lieu: En Ligne \nDélais d’inscription: 3 avril\, le soir \nContenu: Depuis sa création\, le PS Suisse s’engage pour la participation de toutes et tous : tout le monde a le droit de participer aux décisions concernant ses conditions et son cadre de vie. C’est pourquoi le réseau de politique communale organise le 5 avril 2023 un webinaire sur le thème de la participation au niveau communal. Les politicien-nes communaux-ales\, sont cordialement invité-es à y participer afin de bénéficier de contributions d’experts et de praticiens. \nObjectifs: Les participant-e-s seront en mesure de \n\nsavent ce qu’on entend par participation et quelles sont les possibilités existantes\nsont sensibilisés à l’importance de ce thème\napprennent de la pratique pour la pratique\npeuvent échanger des informations entre eux\nsont en mesure de développer et d’appliquer une procédure prometteuse pour plus de participation dans leur commune (y compris argumentation et évaluation\, par ex. dans la description de projets)\nsavent où trouver du soutien\n\nProgramme: \n\nExposé d’introduction (Fanny Nüssli) : qu’est-ce que la participation ? Quels sont les canaux existants ? Comment pouvons-nous atteindre l’ensemble de la population ? Qu’est-ce qui favorise la participation\, qu’est-ce qui la freine ?\nExemple pratique de Cham (Drin Alaj)\nExemple pratique de Birsfelden (Regula Meschberger)\nDiscussions de groupe / question directrice issue des présentations : où est-ce que je voudrais développer la participation dans ma commune ? Comment aimerais-je aborder cela ?\nConclusion & synthèse\n\nPublic cible: Membres exerçant des fonctions officielles (au sein d’autorités) \nIntervenant-es:  \n\nFanny Nüssli\, animatrice socioculturelle indépendante et collaboratrice pour le développement communal\, présidente du PS de Mauensee (LU)\nRegula Meschberger\, conseillère communale et vice-présidente de Birsfelden (BL)\nDrin Alaj\, conseiller communal de Cham (ZG)\n\nFrais: Pas de frais \nInterlocutrice: Rebekka Wyler  \nInscription: Formulaire d’inscription
URL:https://www.sp-ps.ch/fr/agenda/webinaire-participation/
CATEGORIES:Formation,Membres exerçant des fonctions officielles (au sein d’autorités)
END:VEVENT
END:VCALENDAR