BEGIN:VCALENDAR
VERSION:2.0
PRODID:-//PS Svizzero - ECPv6.15.14//NONSGML v1.0//EN
CALSCALE:GREGORIAN
METHOD:PUBLISH
X-WR-CALNAME:PS Svizzero
X-ORIGINAL-URL:https://www.sp-ps.ch/it/
X-WR-CALDESC:Eventi per PS Svizzero
REFRESH-INTERVAL;VALUE=DURATION:PT1H
X-Robots-Tag:noindex
X-PUBLISHED-TTL:PT1H
BEGIN:VTIMEZONE
TZID:Europe/Zurich
BEGIN:DAYLIGHT
TZOFFSETFROM:+0100
TZOFFSETTO:+0200
TZNAME:CEST
DTSTART:20260329T010000
END:DAYLIGHT
BEGIN:STANDARD
TZOFFSETFROM:+0200
TZOFFSETTO:+0100
TZNAME:CET
DTSTART:20261025T010000
END:STANDARD
BEGIN:DAYLIGHT
TZOFFSETFROM:+0100
TZOFFSETTO:+0200
TZNAME:CEST
DTSTART:20270328T010000
END:DAYLIGHT
BEGIN:STANDARD
TZOFFSETFROM:+0200
TZOFFSETTO:+0100
TZNAME:CET
DTSTART:20271031T010000
END:STANDARD
BEGIN:DAYLIGHT
TZOFFSETFROM:+0100
TZOFFSETTO:+0200
TZNAME:CEST
DTSTART:20280326T010000
END:DAYLIGHT
BEGIN:STANDARD
TZOFFSETFROM:+0200
TZOFFSETTO:+0100
TZNAME:CET
DTSTART:20281029T010000
END:STANDARD
END:VTIMEZONE
BEGIN:VEVENT
DTSTART;VALUE=DATE:20271119
DTEND;VALUE=DATE:20271120
DTSTAMP:20260421T121852
CREATED:20260331T120727Z
LAST-MODIFIED:20260331T120727Z
UID:181381-1826582400-1826668799@www.sp-ps.ch
SUMMARY:Consiglio del Partito (Olten)
DESCRIPTION:
URL:https://www.sp-ps.ch/it/agenda/consiglio-del-partito-olten/
CATEGORIES:Consiglio del Partito
END:VEVENT
END:VCALENDAR