BEGIN:VCALENDAR
VERSION:2.0
PRODID:-//PS Svizzero - ECPv6.15.14//NONSGML v1.0//EN
CALSCALE:GREGORIAN
METHOD:PUBLISH
X-WR-CALNAME:PS Svizzero
X-ORIGINAL-URL:https://www.sp-ps.ch/it/
X-WR-CALDESC:Eventi per PS Svizzero
REFRESH-INTERVAL;VALUE=DURATION:PT1H
X-Robots-Tag:noindex
X-PUBLISHED-TTL:PT1H
BEGIN:VTIMEZONE
TZID:Europe/Zurich
BEGIN:DAYLIGHT
TZOFFSETFROM:+0100
TZOFFSETTO:+0200
TZNAME:CEST
DTSTART:20250330T010000
END:DAYLIGHT
BEGIN:STANDARD
TZOFFSETFROM:+0200
TZOFFSETTO:+0100
TZNAME:CET
DTSTART:20251026T010000
END:STANDARD
BEGIN:DAYLIGHT
TZOFFSETFROM:+0100
TZOFFSETTO:+0200
TZNAME:CEST
DTSTART:20260329T010000
END:DAYLIGHT
BEGIN:STANDARD
TZOFFSETFROM:+0200
TZOFFSETTO:+0100
TZNAME:CET
DTSTART:20261025T010000
END:STANDARD
BEGIN:DAYLIGHT
TZOFFSETFROM:+0100
TZOFFSETTO:+0200
TZNAME:CEST
DTSTART:20270328T010000
END:DAYLIGHT
BEGIN:STANDARD
TZOFFSETFROM:+0200
TZOFFSETTO:+0100
TZNAME:CET
DTSTART:20271031T010000
END:STANDARD
END:VTIMEZONE
BEGIN:VEVENT
DTSTART;TZID=Europe/Zurich:20260512T193000
DTEND;TZID=Europe/Zurich:20260512T210000
DTSTAMP:20260423T233304
CREATED:20260318T131643Z
LAST-MODIFIED:20260402T080725Z
UID:180750-1778614200-1778619600@www.sp-ps.ch
SUMMARY:De l’espace pour toutes et tous – un aménagement du territoire inclusif
DESCRIPTION:Une bonne planification de l’espace tient compte des besoins quotidiens des personnes. Elle peut contribuer de manière décisive à améliorer le bien-être et la qualité de vie\, tout en favorisant une utilisation durable des ressources locales. Aujourd’hui encore\, de nombreux espaces publics sont principalement conçus par des hommes et souvent adaptés aux besoins masculins. \nAvec nos membres aux exécutifs et aux législatifs issus des communes\, nous voulons discuter de la manière dont l’urbanisme et l’aménagement du territoire peuvent être conçus de manière à inclure tous les groupes de population\, tant dans les petites communes que dans les grandes villes. L’objectif est de créer un espace public accueillant pour toutes et tous\, indépendamment de l’âge\, du genre ou de la situation de handicap. \n  \n\n\n\n\n\n\n\n\n\n\n\n\n\n\n\n\n\n\n\n\nVoir plus d’informations\n  \nDate et lieu \nMardi 12 mai 2026\, 19:30-21:00\, en ligne via Zoom \n  \nPublic cible \nPour les membres des exécutifs et des législatifs des villes et des communes \n  \nIntervenant-es \nMuriel Zimmermann\, Architecte EPF\, Urbaniste FUS et experte à la LARES \nSébastien Kessler\, Député Grand Conseil vaudois\, associé bureau d’étude en accessibilité universelle id-Geo Sàrl \n  \nPersonne de contact \nCyril Broye\, cyril.broye@spschweiz.ch \n  \nDélai d’inscription \n10.05.2026 \n  \nInformation \nPour des raisons de protection de données\, nous n’enregistrons pas nos évènements en ligne. Cependant\, nous envoyons après la formation toute la documentation disponible aux participant-es inscrit-es. \n\n  \nInscription \nAbilita JavaScript nel browser per completare questo modulo.Prénom *Nom *E-mail *		\n			Nom page Prénom\n			\n		\n		DatenschutzerklärungJ'accepte la déclaration de confidentialité et suis d'accord pour que le PS continue à m'informer. En savoir plus ici.Envoyer
URL:https://www.sp-ps.ch/it/agenda/de-lespace-pour-tous-un-amenagement-du-territoire-inclusif/
LOCATION:En ligne
CATEGORIES:Formazione,Persone iscritte al partito con cariche elettive
END:VEVENT
END:VCALENDAR