BEGIN:VCALENDAR
VERSION:2.0
PRODID:-//PS Svizzero - ECPv6.15.14//NONSGML v1.0//EN
CALSCALE:GREGORIAN
METHOD:PUBLISH
X-WR-CALNAME:PS Svizzero
X-ORIGINAL-URL:https://www.sp-ps.ch/it/
X-WR-CALDESC:Eventi per PS Svizzero
REFRESH-INTERVAL;VALUE=DURATION:PT1H
X-Robots-Tag:noindex
X-PUBLISHED-TTL:PT1H
BEGIN:VTIMEZONE
TZID:Europe/Zurich
BEGIN:DAYLIGHT
TZOFFSETFROM:+0100
TZOFFSETTO:+0200
TZNAME:CEST
DTSTART:20230326T010000
END:DAYLIGHT
BEGIN:STANDARD
TZOFFSETFROM:+0200
TZOFFSETTO:+0100
TZNAME:CET
DTSTART:20231029T010000
END:STANDARD
BEGIN:DAYLIGHT
TZOFFSETFROM:+0100
TZOFFSETTO:+0200
TZNAME:CEST
DTSTART:20240331T010000
END:DAYLIGHT
BEGIN:STANDARD
TZOFFSETFROM:+0200
TZOFFSETTO:+0100
TZNAME:CET
DTSTART:20241027T010000
END:STANDARD
BEGIN:DAYLIGHT
TZOFFSETFROM:+0100
TZOFFSETTO:+0200
TZNAME:CEST
DTSTART:20250330T010000
END:DAYLIGHT
BEGIN:STANDARD
TZOFFSETFROM:+0200
TZOFFSETTO:+0100
TZNAME:CET
DTSTART:20251026T010000
END:STANDARD
END:VTIMEZONE
BEGIN:VEVENT
DTSTART;TZID=Europe/Zurich:20240914T100000
DTEND;TZID=Europe/Zurich:20240914T160000
DTSTAMP:20260421T112103
CREATED:20240129T122238Z
LAST-MODIFIED:20240903T132959Z
UID:122892-1726308000-1726329600@www.sp-ps.ch
SUMMARY:Journée Politique communale
DESCRIPTION:La veille (le vendredi 13 septembre 2024)\, une rencontre facultative pour toute personne intéressée aura également lieu à Belp.  \n \n  \nLieu\nBelp (BE) \n  \nDescription\nExerçant des fonctions officielles dans des petites communes\, nous travaillons directement dans un environnement parfois rude. Il est donc d’autant plus important que nous échangions nos idées au sein d’un réseau et que nous apprenions les un-es des autres. La Journée Politique communale de cette année à Belp portera principalement sur le principe de collégialité\, une réalité et un défi pour nous toutes et tous. Par ailleurs\, des ateliers portant sur d’autres sujets de la politique locale seront également à l’ordre du jour et faciliteront les échanges et le travail en réseau. \n  \nContenu\nPrésentation introductive et discussion sur le thème du principe de collégialité au niveau communale\, ateliers sur divers sujets\, traités sur le fond et le savoir-faire\, échange et mise en réseau. \nCliquez ici pour voir le programme détaillé de la journée politique communale.\n \n  \nObjectifs\nLes participant-es \n\nrecevront des informations pratiques et méthodologiques concernant leur travail de terrain.\nont la possibilité d’échanger entre pairs.\n\n\nPublic cible\nMembres exerçant des fonctions officielles en sein d’institutions politiques communales. \n\nLangue\nLa Journée sera traduite simultanément Français-Allemand. \n\nIntervenant-es\nErich Fehr\, Maire de Bienne Autres politicien-nes expérimenté-es du PS Suisse et expert-es de toutes la Suisse   \n\nModération\nGina La Mantia\, Formation PS Suisse \n\nOrganisateur\nLe réseau Politique communale du PS Suisse \n\nCoûts\nCHF 40.-   \n\nInterlocutrice\nGina La Mantia\, Formation PS Suisse\, gina.lamantia@pssuisse.ch   \n\nDélai d’inscription\n1er septembre 2024 \n\nInscription\nMalheureusement\, le délai d’inscription pour la journée communale est clos. Tu as manqué le délai d’inscription ? Envoie un e-mail à gina.lamantia@spschweiz.ch\, nous verrons ce que nous pouvons faire ! Merci beaucoup.
URL:https://www.sp-ps.ch/it/agenda/journee-politique-communale/
LOCATION:Belp
CATEGORIES:Persone iscritte al partito con cariche elettive
END:VEVENT
END:VCALENDAR