BEGIN:VCALENDAR
VERSION:2.0
PRODID:-//PS Svizzero - ECPv6.15.14//NONSGML v1.0//EN
CALSCALE:GREGORIAN
METHOD:PUBLISH
X-WR-CALNAME:PS Svizzero
X-ORIGINAL-URL:https://www.sp-ps.ch/it/
X-WR-CALDESC:Eventi per PS Svizzero
REFRESH-INTERVAL;VALUE=DURATION:PT1H
X-Robots-Tag:noindex
X-PUBLISHED-TTL:PT1H
BEGIN:VTIMEZONE
TZID:Europe/Zurich
BEGIN:DAYLIGHT
TZOFFSETFROM:+0100
TZOFFSETTO:+0200
TZNAME:CEST
DTSTART:20250330T010000
END:DAYLIGHT
BEGIN:STANDARD
TZOFFSETFROM:+0200
TZOFFSETTO:+0100
TZNAME:CET
DTSTART:20251026T010000
END:STANDARD
BEGIN:DAYLIGHT
TZOFFSETFROM:+0100
TZOFFSETTO:+0200
TZNAME:CEST
DTSTART:20260329T010000
END:DAYLIGHT
BEGIN:STANDARD
TZOFFSETFROM:+0200
TZOFFSETTO:+0100
TZNAME:CET
DTSTART:20261025T010000
END:STANDARD
BEGIN:DAYLIGHT
TZOFFSETFROM:+0100
TZOFFSETTO:+0200
TZNAME:CEST
DTSTART:20270328T010000
END:DAYLIGHT
BEGIN:STANDARD
TZOFFSETFROM:+0200
TZOFFSETTO:+0100
TZNAME:CET
DTSTART:20271031T010000
END:STANDARD
END:VTIMEZONE
BEGIN:VEVENT
DTSTART;TZID=Europe/Zurich:20260427T193000
DTEND;TZID=Europe/Zurich:20260427T210000
DTSTAMP:20260423T233431
CREATED:20260324T144512Z
LAST-MODIFIED:20260408T125736Z
UID:180797-1777318200-1777323600@www.sp-ps.ch
SUMMARY:Les promesses électorales de la droite comme menace pour la démocratie
DESCRIPTION:Trump\, Milei ou Putin : le monde compte aujourd’hui plus de dirigeants autoritaires que nous ne l’aurions imaginé il y a encore peu. Une fois au pouvoir\, ils transforment rapidement la démocratie et\, dans certains cas\, ébranlent même l’ordre international. Plus que jamais\, la Suisse a besoin de partenaires fiables et de relations stables avec les autres démocraties. \nDans le premier volet du cycle de formations « Glissement à droite mondial – que faire ? »\, nous examinerons pourquoi les promesses électorales des partis de droite trouvent un tel écho auprès de larges pans de la population. Nous aborderons également la question de la montée en puissance des autocrates à l’échelle mondiale et la manière dont la Suisse peut s’unir pour contrer ces tendances. \n  \n\n\n\n\n\n\n\n\n\n\n\n\n\n\n\n\n\n\n\n\nVoir plus d’informations\n  \nDate et lieu \nLundi 27 avril 2026\, 19:30-21:00\, en ligne via Zoom \n  \nPublic cible \nMembres et Intéressées \n  \nIntervenant-es \nValérie Piller Carrard\, Vice-présidente du PS Suisse \nOscar Mazzoleni\, Politologue et expert en populisme \n  \nPersonne de contact \nLucius Spilker\, lucius.spilker@spschweiz.ch \n  \nRemarque \nLes deux parts de la série de événements peuvent être suivies indépendamment l’une de l’autre. \n  \nDélai d’inscription \n23.04.2026 \n  \nInformation \nPour des raisons de protection de données\, nous n’enregistrons pas nos évènements en ligne. Cependant\, nous envoyons après la formation toute la documentation disponible aux participant-es inscrit-es. \n\n  \nInscription \nAbilita JavaScript nel browser per completare questo modulo.Prénom *Nom *E-mail *		\n			en Prénom page\n			\n		\n		DatenschutzerklärungJ'accepte la déclaration de confidentialité et suis d'accord pour que le PS continue à m'informer. En savoir plus ici.Envoyer
URL:https://www.sp-ps.ch/it/agenda/les-promesses-electorales-de-lextreme-droite-comme-menace-pour-la-democratie/
LOCATION:En ligne
CATEGORIES:Formazione,Persone iscritte al partito, simpatizzanti e altre persone interessate
END:VEVENT
END:VCALENDAR