BEGIN:VCALENDAR
VERSION:2.0
PRODID:-//PS Svizzero - ECPv6.15.14//NONSGML v1.0//EN
CALSCALE:GREGORIAN
METHOD:PUBLISH
X-WR-CALNAME:PS Svizzero
X-ORIGINAL-URL:https://www.sp-ps.ch/it/
X-WR-CALDESC:Eventi per PS Svizzero
REFRESH-INTERVAL;VALUE=DURATION:PT1H
X-Robots-Tag:noindex
X-PUBLISHED-TTL:PT1H
BEGIN:VTIMEZONE
TZID:Europe/Zurich
BEGIN:DAYLIGHT
TZOFFSETFROM:+0100
TZOFFSETTO:+0200
TZNAME:CEST
DTSTART:20250330T010000
END:DAYLIGHT
BEGIN:STANDARD
TZOFFSETFROM:+0200
TZOFFSETTO:+0100
TZNAME:CET
DTSTART:20251026T010000
END:STANDARD
BEGIN:DAYLIGHT
TZOFFSETFROM:+0100
TZOFFSETTO:+0200
TZNAME:CEST
DTSTART:20260329T010000
END:DAYLIGHT
BEGIN:STANDARD
TZOFFSETFROM:+0200
TZOFFSETTO:+0100
TZNAME:CET
DTSTART:20261025T010000
END:STANDARD
BEGIN:DAYLIGHT
TZOFFSETFROM:+0100
TZOFFSETTO:+0200
TZNAME:CEST
DTSTART:20270328T010000
END:DAYLIGHT
BEGIN:STANDARD
TZOFFSETFROM:+0200
TZOFFSETTO:+0100
TZNAME:CET
DTSTART:20271031T010000
END:STANDARD
END:VTIMEZONE
BEGIN:VEVENT
DTSTART;TZID=Europe/Zurich:20260612T183000
DTEND;TZID=Europe/Zurich:20260612T200000
DTSTAMP:20260424T084840
CREATED:20260318T144038Z
LAST-MODIFIED:20260323T095901Z
UID:180752-1781289000-1781294400@www.sp-ps.ch
SUMMARY:Table ronde : 30 ans de la Loi fédérale sur l’égalité entre femmes et hommes. Mais où en sommes-nous réellement aujourd’hui ?
DESCRIPTION:Le 1er juillet 1996\, la loi sur l’égalité entre femmes et hommes entrait en vigueur en Suisse\, marquant une étape importante dans la lutte contre les discriminations. Trente ans plus tard\, force est de constater que d’importantes inégalités persistent. Les femmes sont moins bien payées\, le travail de soins est à peine reconnu et de nombreuses pensions sont insuffisantes. La pauvreté à la retraite touche les femmes de manière disproportionnée. \nÀ l’approche de la grève féministe\, nous discuterons avec Ruth Dreifuss\, Jessica Jaccoud et Cyrielle Huguenot : comment cette avancée historique a-t-elle été possible et où en sommes-nous réellement aujourd’hui en matière d’égalité salariale\, d’égalité des chances professionnelles et d’accès aux postes de direction ? Comment pouvons-nous accroître la pression pour enfin parvenir à de véritables progrès ? Et comment pouvons-nous contrer efficacement le retour de bâton qui\, malheureusement\, se manifeste dans de nombreux domaines ? Cette table ronde sera animée par Romaine Jean. \n  \n\n\n\n\n\n\n\n\n\n\n\n\n\n\n\n\n\n\n\n\nVoir plus d’informations\n  \nDate et Lieu \nVendredi 12 juin 2026\, de 18h30 à 20h00\, suivi d’un apéritif \nRestaurant Tibits\, salle située à l’étage (Place de la Gare 11\, 1003 Lausanne) \n  \nPublic cible \nMembres et Intéressé-es \n  \nIntervenants \nRuth Dreifuss\, ancienne Conseillère fédérale \nJessica Jaccoud\, Conseillère nationale \nCyrielle Huguenot\, Secrétaire centrale chargée de la politique de l’égalité au sein de l’USS \n  \nPersonne de contact \nLouis Dana\, louis.dana@pssuisse.ch \n  \nDélai d’inscription \n05.06.2026 – Attention\, places limitées ! \n\n  \nInscription
URL:https://www.sp-ps.ch/it/agenda/table-ronde-30-ans-de-la-loi-federale-sur-legalite-entre-femmes-et-hommes-mais-ou-en-sommes-nous-reellement-aujourdhui/
CATEGORIES:Formazione,Persone iscritte al partito, simpatizzanti e altre persone interessate
END:VEVENT
END:VCALENDAR