BEGIN:VCALENDAR
VERSION:2.0
PRODID:-//SP Schweiz - ECPv6.15.14//NONSGML v1.0//EN
CALSCALE:GREGORIAN
METHOD:PUBLISH
X-WR-CALNAME:SP Schweiz
X-ORIGINAL-URL:https://www.sp-ps.ch
X-WR-CALDESC:Veranstaltungen für SP Schweiz
REFRESH-INTERVAL;VALUE=DURATION:PT1H
X-Robots-Tag:noindex
X-PUBLISHED-TTL:PT1H
BEGIN:VTIMEZONE
TZID:Europe/Zurich
BEGIN:DAYLIGHT
TZOFFSETFROM:+0100
TZOFFSETTO:+0200
TZNAME:CEST
DTSTART:20240331T010000
END:DAYLIGHT
BEGIN:STANDARD
TZOFFSETFROM:+0200
TZOFFSETTO:+0100
TZNAME:CET
DTSTART:20241027T010000
END:STANDARD
BEGIN:DAYLIGHT
TZOFFSETFROM:+0100
TZOFFSETTO:+0200
TZNAME:CEST
DTSTART:20250330T010000
END:DAYLIGHT
BEGIN:STANDARD
TZOFFSETFROM:+0200
TZOFFSETTO:+0100
TZNAME:CET
DTSTART:20251026T010000
END:STANDARD
BEGIN:DAYLIGHT
TZOFFSETFROM:+0100
TZOFFSETTO:+0200
TZNAME:CEST
DTSTART:20260329T010000
END:DAYLIGHT
BEGIN:STANDARD
TZOFFSETFROM:+0200
TZOFFSETTO:+0100
TZNAME:CET
DTSTART:20261025T010000
END:STANDARD
END:VTIMEZONE
BEGIN:VEVENT
DTSTART;TZID=Europe/Zurich:20251204T190000
DTEND;TZID=Europe/Zurich:20251204T200000
DTSTAMP:20260419T152711
CREATED:20251024T123823Z
LAST-MODIFIED:20251028T121049Z
UID:171124-1764874800-1764878400@www.sp-ps.ch
SUMMARY:Als Sektion eine erfolgreiche Abstimmungskampagne führen
DESCRIPTION:Als Sektion eine erfolgreiche Abstimmungskampagne führen \nGute Kampagnenarbeit ist entscheidend für eine Abstimmung und somit für politischen Erfolg – das haben wir als SP in der Vergangenheit oft bewiesen. Gerade für Sektionen sind Kampagnen ein wichtiges Handwerk. Angelehnt an das neue Sektionshandbuch 2 “Kampagnen und Kommunikation” und mit Best-Practice-Beispielen zeigen wir auf\, was für eine erfolgreiche Kampagne beachtet und was vermieden werden soll. \n  \n\nWeitere Infos\n  \nDatum & Zeit \nDonnerstag\, 4. Dezember\, 19:00 – 20:00 \n  \nOrt \nOnline via Zoom \n  \nFür wen: \nPräsidien und Vorstände von Sektionen \n  \nKosten \nKeine. \n  \nAnsprechperson \nLukas Probst\, lukas.probst@spschweiz.ch \n  \nAnmeldefrist \n1.12.2025 \n  \nWeitere Infos \nAus Datenschutzgründen zeichnen wir unsere Webinare nicht auf. Im Nachversand verschicken wir jedoch allen Angemeldeten die gesamten verfügbaren Unterlagen. \n\n  \nAnmeldung \n\n\n\nLeider ist die Anmeldefrist bereits abgelaufen. Falls du trotzdem gerne am Webinar Abstimmungskampagnen für Sektionen teilnehmen möchtest\, schreibe bitte eine E-Mail an lukas.probst@spschweiz.ch. Vielen Dank für dein Interesse! \n\n  \n\n\n\n  \n  \n 
URL:https://www.sp-ps.ch/veranstaltung/als-sektion-eine-erfolgreiche-abstimmungskampagne-fuehren/
LOCATION:Online
CATEGORIES:Bildung,Mitglieder mit partei-internen Funktionen
END:VEVENT
END:VCALENDAR