BEGIN:VCALENDAR
VERSION:2.0
PRODID:-//SP Schweiz - ECPv6.15.14//NONSGML v1.0//EN
CALSCALE:GREGORIAN
METHOD:PUBLISH
X-WR-CALNAME:SP Schweiz
X-ORIGINAL-URL:https://www.sp-ps.ch
X-WR-CALDESC:Veranstaltungen für SP Schweiz
REFRESH-INTERVAL;VALUE=DURATION:PT1H
X-Robots-Tag:noindex
X-PUBLISHED-TTL:PT1H
BEGIN:VTIMEZONE
TZID:Europe/Zurich
BEGIN:DAYLIGHT
TZOFFSETFROM:+0100
TZOFFSETTO:+0200
TZNAME:CEST
DTSTART:20220327T010000
END:DAYLIGHT
BEGIN:STANDARD
TZOFFSETFROM:+0200
TZOFFSETTO:+0100
TZNAME:CET
DTSTART:20221030T010000
END:STANDARD
BEGIN:DAYLIGHT
TZOFFSETFROM:+0100
TZOFFSETTO:+0200
TZNAME:CEST
DTSTART:20230326T010000
END:DAYLIGHT
BEGIN:STANDARD
TZOFFSETFROM:+0200
TZOFFSETTO:+0100
TZNAME:CET
DTSTART:20231029T010000
END:STANDARD
BEGIN:DAYLIGHT
TZOFFSETFROM:+0100
TZOFFSETTO:+0200
TZNAME:CEST
DTSTART:20240331T010000
END:DAYLIGHT
BEGIN:STANDARD
TZOFFSETFROM:+0200
TZOFFSETTO:+0100
TZNAME:CET
DTSTART:20241027T010000
END:STANDARD
END:VTIMEZONE
BEGIN:VEVENT
DTSTART;TZID=Europe/Zurich:20230225T150000
DTEND;TZID=Europe/Zurich:20230225T150000
DTSTAMP:20260423T120819
CREATED:20230208T122118Z
LAST-MODIFIED:20230213T163206Z
UID:90742-1677337200-1677337200@www.sp-ps.ch
SUMMARY:Manifestation : Arrêtez la guerre - soutenez l'Ukraine
DESCRIPTION:Rassemblement zone piétonne du Mont-Blanc\, marche jusqu’à la Place de Neuve. \nOrganisé par: Comité Ukraine Genève\, Geneva Branche of Ukrainian society\, Ukraine Reborn\, Free Ukraine\, Detinow \n  \nGenève\, Zone piétonne du Mont-Blanc
URL:https://www.sp-ps.ch/veranstaltung/arretez-la-guerre-soutenez-lukraine/
LOCATION:Genève\, Genève
END:VEVENT
END:VCALENDAR