BEGIN:VCALENDAR
VERSION:2.0
PRODID:-//SP Schweiz - ECPv6.15.14//NONSGML v1.0//EN
CALSCALE:GREGORIAN
METHOD:PUBLISH
X-WR-CALNAME:SP Schweiz
X-ORIGINAL-URL:https://www.sp-ps.ch
X-WR-CALDESC:Veranstaltungen für SP Schweiz
REFRESH-INTERVAL;VALUE=DURATION:PT1H
X-Robots-Tag:noindex
X-PUBLISHED-TTL:PT1H
BEGIN:VTIMEZONE
TZID:Europe/Zurich
BEGIN:DAYLIGHT
TZOFFSETFROM:+0100
TZOFFSETTO:+0200
TZNAME:CEST
DTSTART:20210328T010000
END:DAYLIGHT
BEGIN:STANDARD
TZOFFSETFROM:+0200
TZOFFSETTO:+0100
TZNAME:CET
DTSTART:20211031T010000
END:STANDARD
BEGIN:DAYLIGHT
TZOFFSETFROM:+0100
TZOFFSETTO:+0200
TZNAME:CEST
DTSTART:20220327T010000
END:DAYLIGHT
BEGIN:STANDARD
TZOFFSETFROM:+0200
TZOFFSETTO:+0100
TZNAME:CET
DTSTART:20221030T010000
END:STANDARD
BEGIN:DAYLIGHT
TZOFFSETFROM:+0100
TZOFFSETTO:+0200
TZNAME:CEST
DTSTART:20230326T010000
END:DAYLIGHT
BEGIN:STANDARD
TZOFFSETFROM:+0200
TZOFFSETTO:+0100
TZNAME:CET
DTSTART:20231029T010000
END:STANDARD
END:VTIMEZONE
BEGIN:VEVENT
DTSTART;TZID=Europe/Zurich:20220903T104500
DTEND;TZID=Europe/Zurich:20220903T104500
DTSTAMP:20260420T181444
CREATED:20220609T150530Z
LAST-MODIFIED:20221017T124517Z
UID:59057-1662201900-1662201900@www.sp-ps.ch
SUMMARY:Ausserordentliche Mitgliederversammlung SP Migrant:innen
DESCRIPTION:Anmeldeformular: \nBitte aktiviere JavaScript in deinem Browser\, um dieses Formular fertigzustellen.Name *Vorname *E-Mail *Funktion/AmtSektionMitagessenFleischVegiBemerkungenAbsenden  \nDokumente \n\nTraktandenliste_ a.o. Mitgliederversammlung\nBeilage 0_Protokoll Jahreskonferenz 2022\nBeilage 1_Geschäftsordnung Mitgliederkonferenz\nBeilage 2_Wahlreglement\nBeilage 4_Resolution
URL:https://www.sp-ps.ch/veranstaltung/ausserordentliche-mitgliederversammlung-sp-migrantinnen/
END:VEVENT
END:VCALENDAR