BEGIN:VCALENDAR
VERSION:2.0
PRODID:-//SP Schweiz - ECPv6.15.14//NONSGML v1.0//EN
CALSCALE:GREGORIAN
METHOD:PUBLISH
X-WR-CALNAME:SP Schweiz
X-ORIGINAL-URL:https://www.sp-ps.ch
X-WR-CALDESC:Veranstaltungen für SP Schweiz
REFRESH-INTERVAL;VALUE=DURATION:PT1H
X-Robots-Tag:noindex
X-PUBLISHED-TTL:PT1H
BEGIN:VTIMEZONE
TZID:Europe/Zurich
BEGIN:DAYLIGHT
TZOFFSETFROM:+0100
TZOFFSETTO:+0200
TZNAME:CEST
DTSTART:20210328T010000
END:DAYLIGHT
BEGIN:STANDARD
TZOFFSETFROM:+0200
TZOFFSETTO:+0100
TZNAME:CET
DTSTART:20211031T010000
END:STANDARD
BEGIN:DAYLIGHT
TZOFFSETFROM:+0100
TZOFFSETTO:+0200
TZNAME:CEST
DTSTART:20220327T010000
END:DAYLIGHT
BEGIN:STANDARD
TZOFFSETFROM:+0200
TZOFFSETTO:+0100
TZNAME:CET
DTSTART:20221030T010000
END:STANDARD
BEGIN:DAYLIGHT
TZOFFSETFROM:+0100
TZOFFSETTO:+0200
TZNAME:CEST
DTSTART:20230326T010000
END:DAYLIGHT
BEGIN:STANDARD
TZOFFSETFROM:+0200
TZOFFSETTO:+0100
TZNAME:CET
DTSTART:20231029T010000
END:STANDARD
END:VTIMEZONE
BEGIN:VEVENT
DTSTART;TZID=Europe/Zurich:20220828T100000
DTEND;TZID=Europe/Zurich:20220828T200000
DTSTAMP:20260420T184415
CREATED:20210827T220000Z
LAST-MODIFIED:20231002T132909Z
UID:58921-1661680800-1661716800@www.sp-ps.ch
SUMMARY:Ausserordentlicher Parteitag #SPimAUFBRUCH | St. Gallen
DESCRIPTION:Samstag\, 28. August 2022\, 10.30 Uhr\,\nOlma Messen St. Gallen (Halle 3.1) \n\nEine historisch-musikalische Einführung in die Stadt St.Gallen\nPositionspapier SP Schweiz: Mehr soziale Sicherheit\, mehr Service Public\, mehr Solidarität! \nRauf mit den AHV-Renten!\nEs braucht jetzt klare europapolitische Entscheide für die Menschen\nSchlussdokumentation inkl. definitiver Traktandenliste\n«Strukturreform 2021» (Statutenrevision) mit den Anträgen aus Frist 2\nPositionspapier «Mehr soziale Sicherheit\, mehr Service Public\, mehr Solidarität!» mit Anträgen\nCovid-19 Schutzkonzept\nInstruktionen zum elektronischen Abstimmungstool\nVersandheft 2 (Einladung an die Delegierten)\nPositionspapier «Mehr soziale Sicherheit\, mehr Service Public\, mehr Solidarität!»\nAntragsformular zum Corona-Positionspapier\nStrukturreform: Überarbeitete Fassung Statutenrevision\nStrukturreform: Überarbeitete Fassung Statutenrevision (Italienisch)\nStrukturreform: Antragsformular \nStrukturreform: Ergebnisse interne Vernehmlassung \nStrukturreform: Arbeitspapier mit allen Anträgen aus Frist 1\nVersand 1 (Einladung an die Sektionen)\nSektionsbüchlein (mit den Delegiertenzahlen für Sektionen)\nProtokoll des digitalen Parteitags vom 17. Oktober 2020\nSynoptische Darstellung der Statuten\nDiskussionspapier ‘Die SP der Zukunft gestalten – wir schaffen die organisatorischen Grundlagen dafür!’\nRede des Co-Präsidiums der SP Schweiz
URL:https://www.sp-ps.ch/veranstaltung/ausserordentlicher-parteitag-spimaufbruch-st-gallen/
CATEGORIES:Parteitag
ATTACH;FMTTYPE=image/jpeg:https://www.sp-ps.ch/wp-content/uploads/2022/08/parteitag_20210828_jgm09007.jpg
END:VEVENT
END:VCALENDAR