BEGIN:VCALENDAR
VERSION:2.0
PRODID:-//SP Schweiz - ECPv6.15.14//NONSGML v1.0//EN
CALSCALE:GREGORIAN
METHOD:PUBLISH
X-WR-CALNAME:SP Schweiz
X-ORIGINAL-URL:https://www.sp-ps.ch
X-WR-CALDESC:Veranstaltungen für SP Schweiz
REFRESH-INTERVAL;VALUE=DURATION:PT1H
X-Robots-Tag:noindex
X-PUBLISHED-TTL:PT1H
BEGIN:VTIMEZONE
TZID:Europe/Zurich
BEGIN:DAYLIGHT
TZOFFSETFROM:+0100
TZOFFSETTO:+0200
TZNAME:CEST
DTSTART:20250330T010000
END:DAYLIGHT
BEGIN:STANDARD
TZOFFSETFROM:+0200
TZOFFSETTO:+0100
TZNAME:CET
DTSTART:20251026T010000
END:STANDARD
BEGIN:DAYLIGHT
TZOFFSETFROM:+0100
TZOFFSETTO:+0200
TZNAME:CEST
DTSTART:20260329T010000
END:DAYLIGHT
BEGIN:STANDARD
TZOFFSETFROM:+0200
TZOFFSETTO:+0100
TZNAME:CET
DTSTART:20261025T010000
END:STANDARD
BEGIN:DAYLIGHT
TZOFFSETFROM:+0100
TZOFFSETTO:+0200
TZNAME:CEST
DTSTART:20270328T010000
END:DAYLIGHT
BEGIN:STANDARD
TZOFFSETFROM:+0200
TZOFFSETTO:+0100
TZNAME:CET
DTSTART:20271031T010000
END:STANDARD
END:VTIMEZONE
BEGIN:VEVENT
DTSTART;TZID=Europe/Zurich:20260509T101500
DTEND;TZID=Europe/Zurich:20260509T150000
DTSTAMP:20260422T162632
CREATED:20251217T124245Z
LAST-MODIFIED:20260413T091252Z
UID:175031-1778321700-1778338800@www.sp-ps.ch
SUMMARY:Delegiertenkonferenz der SP Migrant:innen Schweiz
DESCRIPTION:Einladung\nWir laden dich herzlich zu unserer kommenden Delegiertenkonferenz ein. Wir diskutieren in zwei Themenblöcken über Vielfalt und Repräsentation in der Politik sowie über die Abstimmung vom 14. Juni 2026 über die Chaos-Initiative der SVP. \nAusserdem wählen wir unsere Delegierten für den Parteitag der SP Schweiz neu. Als Mitglied der SP Migrant:innen kannst du über das Formular (bis am 24. April 2026) deine Kandidatur einreichen. \n\nProvisorische Traktandenliste\nProtokoll Delegiertnekonferenz 15.11.2025\n\n  \nWir freuen uns auf deine Teilnahme und den Austausch. \n\nAnmeldung\nDamit wir besser planen können\, freuen wir uns über eine unverbindliche Anmeldung. Alle Mitglieder und Delegierten der SP Migrant:innen sind herzlich willkommen. \nBitte aktiviere JavaScript in deinem Browser\, um dieses Formular fertigzustellen.		\n			E-Mail-Adresse Nachname Anmeldung\n			\n		\n		Kantonalpartei oder Organ / Parti cantonal ou organe *Vorname / Prénom *Nachname / Nom  *E-Mail-Adresse / adresse e-mail *Anmeldung / Inscription *Delegiertenkonferenz / Conférence des délégué-esSommeranlass / Événement estivalBemerkungen / RemarquesAbsenden / Envoyer  \n\nKandidatur\nFalls du dich als Parteitagsdelegierte:r zur Wahl stellen willst\, freuen wir uns über deine Kandidatur. \nBitte aktiviere JavaScript in deinem Browser\, um dieses Formular fertigzustellen.Ich kandidere als / Je me présente en tant que *Delegierter der SP Migrant:innen am Parteitag der SP Schweiz / Délégué-e du PS migrant-es au congrès du PS SuisseErsatzdelegierter der SP Migrant:innen am Parteitag der SP Schweiz / délégué-e suppléant-e du PS migrant-es au congrès du PS SuisseKantonale Sektion / Section cantonale *		\n			Ich en Sektion\n			\n		\n		Vorname / Prénom *Nachname / Nom  *E-Mail-Adresse / adresse e-mail *Telefonnummer / numéro de téléphone *Meine Motivation in einem Satz / Ma motivation en une phraseAbsenden / Envoyer
URL:https://www.sp-ps.ch/veranstaltung/delegiertenkonferenz-der-sp-migrantinnen-schweiz-2026-05-09/
LOCATION:Kleine Bühne\, Progr\, Waisenhausplatz 30\, Bern\, Bern\, 3011\, Switzerland
ATTACH;FMTTYPE=image/jpeg:https://www.sp-ps.ch/wp-content/uploads/2025/02/PROGR_Kleine_Buehne_IMG_5545.jpg
END:VEVENT
END:VCALENDAR