BEGIN:VCALENDAR
VERSION:2.0
PRODID:-//SP Schweiz - ECPv6.15.14//NONSGML v1.0//EN
CALSCALE:GREGORIAN
METHOD:PUBLISH
X-WR-CALNAME:SP Schweiz
X-ORIGINAL-URL:https://www.sp-ps.ch
X-WR-CALDESC:Veranstaltungen für SP Schweiz
REFRESH-INTERVAL;VALUE=DURATION:PT1H
X-Robots-Tag:noindex
X-PUBLISHED-TTL:PT1H
BEGIN:VTIMEZONE
TZID:Europe/Zurich
BEGIN:DAYLIGHT
TZOFFSETFROM:+0100
TZOFFSETTO:+0200
TZNAME:CEST
DTSTART:20230326T010000
END:DAYLIGHT
BEGIN:STANDARD
TZOFFSETFROM:+0200
TZOFFSETTO:+0100
TZNAME:CET
DTSTART:20231029T010000
END:STANDARD
BEGIN:DAYLIGHT
TZOFFSETFROM:+0100
TZOFFSETTO:+0200
TZNAME:CEST
DTSTART:20240331T010000
END:DAYLIGHT
BEGIN:STANDARD
TZOFFSETFROM:+0200
TZOFFSETTO:+0100
TZNAME:CET
DTSTART:20241027T010000
END:STANDARD
BEGIN:DAYLIGHT
TZOFFSETFROM:+0100
TZOFFSETTO:+0200
TZNAME:CEST
DTSTART:20250330T010000
END:DAYLIGHT
BEGIN:STANDARD
TZOFFSETFROM:+0200
TZOFFSETTO:+0100
TZNAME:CET
DTSTART:20251026T010000
END:STANDARD
END:VTIMEZONE
BEGIN:VEVENT
DTSTART;VALUE=DATE:20240323
DTEND;VALUE=DATE:20240324
DTSTAMP:20260420T203918
CREATED:20230821T081910Z
LAST-MODIFIED:20240315T095748Z
UID:109323-1711152000-1711238399@www.sp-ps.ch
SUMMARY:Delegiertenkonferenz 2024 SP Migrant:innen Schweiz - Bern
DESCRIPTION:Schwerpunkt : die Europawahlen 2024\n  \nOrt: Bern\, Hotel Bern\, Zeughausgasse 9\, 3011 Bern \nZeit: 10.15 bis 14.45 Uhr \n  \nTraktanden und Beilagen\n\nTraktandenliste für 23.03.2024\nB.1 Protokoll der Delegiertenversammlung vom 18.11.2023\nB.2 Entwurf Resolution zu den Europawahlen\n\n  \nDie Anmeldefrist für diesen Anlass ist bereits abgelaufen.
URL:https://www.sp-ps.ch/veranstaltung/delegiertenversammlung-2024-sp-migrantinnen-schweiz-bern/
LOCATION:Hotel Bern\, Zeughausgasse 9\, 3011 Bern\, Schweiz
END:VEVENT
END:VCALENDAR