BEGIN:VCALENDAR
VERSION:2.0
PRODID:-//SP Schweiz - ECPv6.15.14//NONSGML v1.0//EN
CALSCALE:GREGORIAN
METHOD:PUBLISH
X-WR-CALNAME:SP Schweiz
X-ORIGINAL-URL:https://www.sp-ps.ch
X-WR-CALDESC:Veranstaltungen für SP Schweiz
REFRESH-INTERVAL;VALUE=DURATION:PT1H
X-Robots-Tag:noindex
X-PUBLISHED-TTL:PT1H
BEGIN:VTIMEZONE
TZID:Europe/Zurich
BEGIN:DAYLIGHT
TZOFFSETFROM:+0100
TZOFFSETTO:+0200
TZNAME:CEST
DTSTART:20250330T010000
END:DAYLIGHT
BEGIN:STANDARD
TZOFFSETFROM:+0200
TZOFFSETTO:+0100
TZNAME:CET
DTSTART:20251026T010000
END:STANDARD
BEGIN:DAYLIGHT
TZOFFSETFROM:+0100
TZOFFSETTO:+0200
TZNAME:CEST
DTSTART:20260329T010000
END:DAYLIGHT
BEGIN:STANDARD
TZOFFSETFROM:+0200
TZOFFSETTO:+0100
TZNAME:CET
DTSTART:20261025T010000
END:STANDARD
BEGIN:DAYLIGHT
TZOFFSETFROM:+0100
TZOFFSETTO:+0200
TZNAME:CEST
DTSTART:20270328T010000
END:DAYLIGHT
BEGIN:STANDARD
TZOFFSETFROM:+0200
TZOFFSETTO:+0100
TZNAME:CET
DTSTART:20271031T010000
END:STANDARD
END:VTIMEZONE
BEGIN:VEVENT
DTSTART;TZID=Europe/Zurich:20260421T193000
DTEND;TZID=Europe/Zurich:20260421T210000
DTSTAMP:20260420T094825
CREATED:20260324T142215Z
LAST-MODIFIED:20260408T143529Z
UID:180783-1776799800-1776805200@www.sp-ps.ch
SUMMARY:Der Aufstieg der Rechten in der Schweiz
DESCRIPTION:Am 14. Juni kommt die SVP-Chaos-Initiative zur Abstimmung. Diese Initiative reiht sich nahtlos in eine Reihe von Initiativen ein\, die gegen Ausländer:innen hetzen\, ganze Bevölkerungsgruppen diskriminieren und der Schweiz erheblichen Schaden zufügen. Neu sind solche Initiativen nicht. Doch wieso kann die SVP immer wieder für dieses Thema mobilisieren? \nGemeinsam besprechen wir im zweiten Teil der Veranstaltungsreihe «Weltweiter Rechtsrutsch – was tun?»\, wie rechten Kräften der Aufstieg in der Schweiz gelang – von der Schwarzenbach-Initiative über den Aufstieg der SVP in den 1990ern bis hin zur aktuellen Chaos-Initiative. Wir diskutieren\, mit welchen Forderungen und Erzählungen rechte Parteien arbeiten und warum diese Anklang finden. \n  \n\nWeitere Infos\n  \nWann & Wo \nDienstag\, 21. April\, 19:30-21:00 Uhr\, Online via Zoom \n  \nZielpublikum \nMitglieder und Interessierte \n  \nReferent:innen \nNina Schläfli\, Nationalrätin TG \nJakob Tanner\, emeritierter Professor für Geschichte der Neuzeit und Schweizer Geschichte \n  \nAnsprechperson \nLucius Spilker\, lucius.spilker@spschweiz.ch \n  \nHinweis \nDie drei Teile der Veranstaltungsreihe können unabhängig voneinander besucht werden. \n  \nAnmeldefrist\n19. April 2026 \n  \nWeitere Infos\nAus Datenschutzgründen zeichnen wir unsere Webinare nicht auf. Im Nachversand verschicken wir jedoch allen Angemeldeten die gesamten verfügbaren Unterlagen. \n\n  \nAnmeldung\nLeider ist die Anmeldefrist für das Webinar "Der Aufstieg der Rechten in der Schweiz" abgelaufen. Möchtest du trotzdem daran teilnehmen? Dann melde dich bei lucius.spilker@spschweiz.ch und wir werden dir nach Möglichkeit den Teilnahmelink zusenden.
URL:https://www.sp-ps.ch/veranstaltung/der-aufstieg-der-rechtenin-der-schweiz/
LOCATION:Online
CATEGORIES:Bildung,Mitglieder, Sympathisant:innen, Interessierte
END:VEVENT
END:VCALENDAR