BEGIN:VCALENDAR
VERSION:2.0
PRODID:-//SP Schweiz - ECPv6.15.14//NONSGML v1.0//EN
CALSCALE:GREGORIAN
METHOD:PUBLISH
X-WR-CALNAME:SP Schweiz
X-ORIGINAL-URL:https://www.sp-ps.ch
X-WR-CALDESC:Veranstaltungen für SP Schweiz
REFRESH-INTERVAL;VALUE=DURATION:PT1H
X-Robots-Tag:noindex
X-PUBLISHED-TTL:PT1H
BEGIN:VTIMEZONE
TZID:Europe/Zurich
BEGIN:DAYLIGHT
TZOFFSETFROM:+0100
TZOFFSETTO:+0200
TZNAME:CEST
DTSTART:20250330T010000
END:DAYLIGHT
BEGIN:STANDARD
TZOFFSETFROM:+0200
TZOFFSETTO:+0100
TZNAME:CET
DTSTART:20251026T010000
END:STANDARD
BEGIN:DAYLIGHT
TZOFFSETFROM:+0100
TZOFFSETTO:+0200
TZNAME:CEST
DTSTART:20260329T010000
END:DAYLIGHT
BEGIN:STANDARD
TZOFFSETFROM:+0200
TZOFFSETTO:+0100
TZNAME:CET
DTSTART:20261025T010000
END:STANDARD
BEGIN:DAYLIGHT
TZOFFSETFROM:+0100
TZOFFSETTO:+0200
TZNAME:CEST
DTSTART:20270328T010000
END:DAYLIGHT
BEGIN:STANDARD
TZOFFSETFROM:+0200
TZOFFSETTO:+0100
TZNAME:CET
DTSTART:20271031T010000
END:STANDARD
END:VTIMEZONE
BEGIN:VEVENT
DTSTART;TZID=Europe/Zurich:20260416T200000
DTEND;TZID=Europe/Zurich:20260416T213000
DTSTAMP:20260422T034002
CREATED:20260324T143340Z
LAST-MODIFIED:20260326T134623Z
UID:180789-1776369600-1776375000@www.sp-ps.ch
SUMMARY:Die Faszination für rechte Wahlversprechen
DESCRIPTION:Ausgerechnet anti-demokratische Kräfte geben sich zunehmend als Retter der Demokratie aus und greifen damit das Fundament unserer liberalen Demokratie an. Durch angebliche «linke Medien» oder erhebliche Demokratierisiken durch «Massenmigration» wird der politische Diskurs zunehmend vergiftet\, die Hetze gegen Minderheiten gesellschaftsfähig gemacht und die Einschränkung von Freiheiten legitimiert. \nIm ersten Teil der Veranstaltungsreihe «Weltweiter Rechtsrutsch – was tun?» widmen wir uns der Frage\, wieso die Wahlversprechen rechter Parteien in breiten Bevölkerungsteilen so anschlussfähig sind. Dabei möchten wir uns insbesondere die Frage stellen\, wieso Menschen rechtsextreme und rechtspopulistische Parteien wählen. \n  \n\nWeitere Infos\n  \nWann & Wo \nDonnerstag\, 16. April\, 20:00-21:30 Uhr\, Online via Zoom \n  \nZielpublikum \nMitglieder und Interessierte \n  \nReferent:innen \nCédric Wermuth\, Co-Präsident SP Schweiz \nNatascha Strobl\, Politikwissenschaftlerin und Expertin für Rechtsextremismus \n  \nAnsprechperson \nLucius Spilker\, lucius.spilker@spschweiz.ch \n  \nHinweis \nDie drei Teile der Veranstaltungsreihe können unabhängig voneinander besucht werden. \n  \nAnmeldefrist\n14. April 2026 \n  \nWeitere Infos\nAus Datenschutzgründen zeichnen wir unsere Webinare nicht auf. Im Nachversand verschicken wir jedoch allen Angemeldeten die gesamten verfügbaren Unterlagen. \n\n  \nAnmeldung\nLeider ist die Anmeldefrist für das Webinar "Die Faszination für rechte Wahlversprechen" abgelaufen. Möchtest du trotzdem daran teilnehmen? Dann melde dich bei lucius.spilker@spschweiz.ch und wir werden dir nach Möglichkeit den Teilnahmelink zusenden.
URL:https://www.sp-ps.ch/veranstaltung/die-faszination-fuer-rechte-wahlversprechen/
LOCATION:Online
CATEGORIES:Bildung,Mitglieder, Sympathisant:innen, Interessierte
END:VEVENT
END:VCALENDAR