BEGIN:VCALENDAR
VERSION:2.0
PRODID:-//SP Schweiz - ECPv6.15.14//NONSGML v1.0//EN
CALSCALE:GREGORIAN
METHOD:PUBLISH
X-WR-CALNAME:SP Schweiz
X-ORIGINAL-URL:https://www.sp-ps.ch
X-WR-CALDESC:Veranstaltungen für SP Schweiz
REFRESH-INTERVAL;VALUE=DURATION:PT1H
X-Robots-Tag:noindex
X-PUBLISHED-TTL:PT1H
BEGIN:VTIMEZONE
TZID:Europe/Zurich
BEGIN:DAYLIGHT
TZOFFSETFROM:+0100
TZOFFSETTO:+0200
TZNAME:CEST
DTSTART:20210328T010000
END:DAYLIGHT
BEGIN:STANDARD
TZOFFSETFROM:+0200
TZOFFSETTO:+0100
TZNAME:CET
DTSTART:20211031T010000
END:STANDARD
BEGIN:DAYLIGHT
TZOFFSETFROM:+0100
TZOFFSETTO:+0200
TZNAME:CEST
DTSTART:20220327T010000
END:DAYLIGHT
BEGIN:STANDARD
TZOFFSETFROM:+0200
TZOFFSETTO:+0100
TZNAME:CET
DTSTART:20221030T010000
END:STANDARD
BEGIN:DAYLIGHT
TZOFFSETFROM:+0100
TZOFFSETTO:+0200
TZNAME:CEST
DTSTART:20230326T010000
END:DAYLIGHT
BEGIN:STANDARD
TZOFFSETFROM:+0200
TZOFFSETTO:+0100
TZNAME:CET
DTSTART:20231029T010000
END:STANDARD
END:VTIMEZONE
BEGIN:VEVENT
DTSTART;TZID=Europe/Zurich:20220926T181500
DTEND;TZID=Europe/Zurich:20220926T204500
DTSTAMP:20260420T184324
CREATED:20220527T094129Z
LAST-MODIFIED:20220527T094129Z
UID:111890-1664216100-1664225100@www.sp-ps.ch
SUMMARY:Energie-Stammtisch
DESCRIPTION:Energiewende\, wie soll das gehen? Das hast du dich bestimmt auch schon gefragt! Gerne laden wir dich aus diesem Grund zum zweiten Energie-Stammtisch mit unseren Energiepolitikerinnen Nadine Masshardt und Martina Munz ein. \nGemeinsam mit dir wollen über die Energiewende sprechen\, unsere feministische Perspektive stärken\, Ideen generieren\, unsere Kenntnisse vertiefen und uns vernetzen. \nWir treffen uns im Business Center Vatter im Saal Adrian Frutiger (Bärenplatz 2\, 3011 Bern). \n\n18:15  Eintreffen der Teilnehmerinnen\, gegenseitiger Austausch.\n19:00 Input der SP Nationalrätinnen Nadine Masshardt und Martina Munz: aktuelle Themen der Herbstsession zum Thema Energie.\n19:30 Diskussion mit den Teilnehmerinnen: Ideen\, Vorschläge\, Fragen\, spezielle Interessen.\n20:30  Schluss der Veranstaltung. Die Züge um 21 Uhr können erreicht werden.\n\nDer Anlass wird auf Hochdeutsch durchgeführt. Die Anmeldefrist ist abgelaufen.
URL:https://www.sp-ps.ch/veranstaltung/energie-stammtisch-2/
END:VEVENT
END:VCALENDAR