BEGIN:VCALENDAR
VERSION:2.0
PRODID:-//SP Schweiz - ECPv6.15.14//NONSGML v1.0//EN
CALSCALE:GREGORIAN
METHOD:PUBLISH
X-WR-CALNAME:SP Schweiz
X-ORIGINAL-URL:https://www.sp-ps.ch
X-WR-CALDESC:Veranstaltungen für SP Schweiz
REFRESH-INTERVAL;VALUE=DURATION:PT1H
X-Robots-Tag:noindex
X-PUBLISHED-TTL:PT1H
BEGIN:VTIMEZONE
TZID:Europe/Zurich
BEGIN:DAYLIGHT
TZOFFSETFROM:+0100
TZOFFSETTO:+0200
TZNAME:CEST
DTSTART:20230326T010000
END:DAYLIGHT
BEGIN:STANDARD
TZOFFSETFROM:+0200
TZOFFSETTO:+0100
TZNAME:CET
DTSTART:20231029T010000
END:STANDARD
BEGIN:DAYLIGHT
TZOFFSETFROM:+0100
TZOFFSETTO:+0200
TZNAME:CEST
DTSTART:20240331T010000
END:DAYLIGHT
BEGIN:STANDARD
TZOFFSETFROM:+0200
TZOFFSETTO:+0100
TZNAME:CET
DTSTART:20241027T010000
END:STANDARD
BEGIN:DAYLIGHT
TZOFFSETFROM:+0100
TZOFFSETTO:+0200
TZNAME:CEST
DTSTART:20250330T010000
END:DAYLIGHT
BEGIN:STANDARD
TZOFFSETFROM:+0200
TZOFFSETTO:+0100
TZNAME:CET
DTSTART:20251026T010000
END:STANDARD
END:VTIMEZONE
BEGIN:VEVENT
DTSTART;TZID=Europe/Zurich:20240313T193000
DTEND;TZID=Europe/Zurich:20240313T210000
DTSTAMP:20260421T113019
CREATED:20240125T084417Z
LAST-MODIFIED:20240125T100444Z
UID:122615-1710358200-1710363600@www.sp-ps.ch
SUMMARY:gestern und heute: Der Matrosenaufstand von Kronstadt 1921: Das Schicksal der Revolution und die Durchsetzung der kommunistischen Herrschaft
DESCRIPTION:Online-Veranstaltung (Webinar)\n  \nInhalt\n\nVorgeschichte\, Verlauf und Folgen des Kronstädter Matrosenaufstands\nHintergründe zur Geschichte der frühen Sowjetunion und zur Durchsetzung der kommunistischen Herrschaft\n\n  \nOrt\nWebinar (Link wird kurz vor dem Anlass an die Angemeldeten verschickt) \nMit Simultanübersetzung Deutsch-Französisch \n  \nZiele\nDie Teilnehmenden erweitern ihr Wissen über die Geschichte der Russischen Revolutionen und der frühen Sowjetzeit. Der Matrosenaufstand von Kronstadt kann als einer der Wendepunkte der Oktoberrevolution betrachtet werden: Utopie und Realität der Revolution prallten aufeinander. Die Kronstädter Matrosen hatten während der Revolution und des Bürgerkriegs gegen die «Weissen» eine wichtige Rolle gespielt. Und nun forderten die Aufständischen ein Ende der Repression und ein Ende der diktatorischen Anmassung der Parteiführung – keine Demokratie\, aber doch mehr Teilhabe. Der Aufstand wurde durch Einheiten der Roten Armee unter Führung von Leo Trotzki niedergeschlagen – dennoch hatte die Revolte erhebliche Folgen für die Entwicklung des jungen Staates. \n  \nZielpublikum\nMitglieder und Interessierte \n  \nSprache\nDeutsch mit Simultanübersetzung Deutsch-Französisch \n  \nReferent:innen\nInputreferat durch Prof. Dr. Jörn Happel\, Helmut-Schmidt-Universität\, Hamburg \n  \nModeration\nRebekka Wyler\, Co-Generalsekretärin SP Schweiz \n  \nWeiterführende Literatur\n\nHeiko Haumann (Hg.): Die Russische Revolution 1917\, 2.\, überarb. und erw. Aufl.\, Köln u.a. 2016.\nOrlando Figes: Die Tragödie eines Volkes. Die Russische Revolution 1891–1924. Berlin Verlag\, 2. Aufl.\, Berlin 2011\, S. 800-815.\n\n  \nOrganisation\nBildung SP Schweiz \n  \nKosten\nKeine \n  \nAnsprechperson\nRebekka Wyler\, rebekka.wyler@spschweiz.ch \n  \nAnmeldefrist\n10. März 2024 \n  \nAnmeldung: \nDie Anmeldefrist zu diesem Anlass ist bereits abgelaufen. Falls du trotzdem gerne am Webinar teilnehmen möchtest\, melde dich gerne bei susanna.leutenegger@spschweiz.ch\, um den Link zum Zoom-Meeting zu erhalten. \n 
URL:https://www.sp-ps.ch/veranstaltung/gestern-und-heute-der-matrosenaufstand-von-kronstadt-1921-das-schicksal-der-revolution-und-die-durchsetzung-der-kommunistischen-herrschaft/
LOCATION:Online
CATEGORIES:Bildung,Mitglieder, Sympathisant:innen, Interessierte
END:VEVENT
END:VCALENDAR