BEGIN:VCALENDAR
VERSION:2.0
PRODID:-//SP Schweiz - ECPv6.15.14//NONSGML v1.0//EN
CALSCALE:GREGORIAN
METHOD:PUBLISH
X-WR-CALNAME:SP Schweiz
X-ORIGINAL-URL:https://www.sp-ps.ch
X-WR-CALDESC:Veranstaltungen für SP Schweiz
REFRESH-INTERVAL;VALUE=DURATION:PT1H
X-Robots-Tag:noindex
X-PUBLISHED-TTL:PT1H
BEGIN:VTIMEZONE
TZID:Europe/Zurich
BEGIN:DAYLIGHT
TZOFFSETFROM:+0100
TZOFFSETTO:+0200
TZNAME:CEST
DTSTART:20230326T010000
END:DAYLIGHT
BEGIN:STANDARD
TZOFFSETFROM:+0200
TZOFFSETTO:+0100
TZNAME:CET
DTSTART:20231029T010000
END:STANDARD
BEGIN:DAYLIGHT
TZOFFSETFROM:+0100
TZOFFSETTO:+0200
TZNAME:CEST
DTSTART:20240331T010000
END:DAYLIGHT
BEGIN:STANDARD
TZOFFSETFROM:+0200
TZOFFSETTO:+0100
TZNAME:CET
DTSTART:20241027T010000
END:STANDARD
BEGIN:DAYLIGHT
TZOFFSETFROM:+0100
TZOFFSETTO:+0200
TZNAME:CEST
DTSTART:20250330T010000
END:DAYLIGHT
BEGIN:STANDARD
TZOFFSETFROM:+0200
TZOFFSETTO:+0100
TZNAME:CET
DTSTART:20251026T010000
END:STANDARD
END:VTIMEZONE
BEGIN:VEVENT
DTSTART;TZID=Europe/Zurich:20240615T101500
DTEND;TZID=Europe/Zurich:20240615T150000
DTSTAMP:20260420T190121
CREATED:20230821T085222Z
LAST-MODIFIED:20240614T145502Z
UID:109330-1718446500-1718463600@www.sp-ps.ch
SUMMARY:JAHRESKONFERENZ SP Migrant:innen Schweiz – Bern
DESCRIPTION:Veranstaltungsort \n(Neu) Hotel Kreuz\, Zeughausgasse 41\, 3011 Bern \n  \nDokumente (Antragsfrist: 2. Juni 2024\, 12.00 Uhr) \nTraktanden \nBeilage 1: Geschäftsordnung \nBeilage 2: Wahlreglement \nBeilage 3: Protokoll der Jahresversammlung 2023 \nBeilage 4: Reglement der SP Migrant:innen Schweiz\, zwei Anträge \nBeilage 5: Tätigkeitsbericht 2023 \nBeilage 6: Kandidaturen zur Nachfolge von Mustafa Atici \nBeilage 7: Resolution “Der Radikalisierung von Jugendlichen entgegenwirken” \nBeilage 8: Resolution “Schutz der eritreischen Flüchtlinge in der Schweiz” \n  \nWeitere Dokumente \nAusschreibung Präsident:in SP Migrant:innen Schweiz \n  \nAnmeldung \nBitte aktiviere JavaScript in deinem Browser\, um dieses Formular fertigzustellen.Vorname *Name *E-Mail *Funktion/AmtSektionBemerkungenAnmelden  \n  \n 
URL:https://www.sp-ps.ch/veranstaltung/jahreskonferenz-sp-migrantinnen-schweiz-2/
LOCATION:Hotel Kreuz\, Zeughausgasse 41\, 3011 Bern\, Hotel Kreuz\, Zeughausgasse 41\, Bern
END:VEVENT
END:VCALENDAR