BEGIN:VCALENDAR
VERSION:2.0
PRODID:-//SP Schweiz - ECPv6.15.14//NONSGML v1.0//EN
CALSCALE:GREGORIAN
METHOD:PUBLISH
X-WR-CALNAME:SP Schweiz
X-ORIGINAL-URL:https://www.sp-ps.ch
X-WR-CALDESC:Veranstaltungen für SP Schweiz
REFRESH-INTERVAL;VALUE=DURATION:PT1H
X-Robots-Tag:noindex
X-PUBLISHED-TTL:PT1H
BEGIN:VTIMEZONE
TZID:Europe/Zurich
BEGIN:DAYLIGHT
TZOFFSETFROM:+0100
TZOFFSETTO:+0200
TZNAME:CEST
DTSTART:20210328T010000
END:DAYLIGHT
BEGIN:STANDARD
TZOFFSETFROM:+0200
TZOFFSETTO:+0100
TZNAME:CET
DTSTART:20211031T010000
END:STANDARD
BEGIN:DAYLIGHT
TZOFFSETFROM:+0100
TZOFFSETTO:+0200
TZNAME:CEST
DTSTART:20220327T010000
END:DAYLIGHT
BEGIN:STANDARD
TZOFFSETFROM:+0200
TZOFFSETTO:+0100
TZNAME:CET
DTSTART:20221030T010000
END:STANDARD
BEGIN:DAYLIGHT
TZOFFSETFROM:+0100
TZOFFSETTO:+0200
TZNAME:CEST
DTSTART:20230326T010000
END:DAYLIGHT
BEGIN:STANDARD
TZOFFSETFROM:+0200
TZOFFSETTO:+0100
TZNAME:CET
DTSTART:20231029T010000
END:STANDARD
END:VTIMEZONE
BEGIN:VEVENT
DTSTART;TZID=Europe/Zurich:20221022T140000
DTEND;TZID=Europe/Zurich:20221022T173000
DTSTAMP:20260420T165605
CREATED:20211206T145733Z
LAST-MODIFIED:20211206T145733Z
UID:111888-1666447200-1666459800@www.sp-ps.ch
SUMMARY:Mitgliederversammlung der SP Frauen
DESCRIPTION:Wir treffen uns im Hotel Bern\, Zeughausgasse 9\, 3011 Bern. Einlass ab 13:15\, Beginn der Versammlung um 14:00. Bitte frühzeitig erscheinen\, damit wir genügend Zeit für den Einlass haben! Die Anmeldefrist ist abgelaufen. \n\nHier findest du die Einladung mit Traktandenliste.\nHier geht es zur Resolution der Geschäftsleitung der SP Frauen: Reproduktionsrechte sind Menschenrechte!\nHier geht es zur Resolution der Geschäftsleitung der SP Frauen: Familien brauchen Zeit. Elternzeit jetzt!\nHier findest du das Wahlreglement.\nHier findest du die Dossiers aller Kandidatinnen für die Gesamterneuerungswahlen des Präsidiums\, der Zentralsekretärin und der Geschäftsleitung.\nHier geht es zum Protokoll der online Mitgliederversammlung vom 19. Februar 2022.
URL:https://www.sp-ps.ch/veranstaltung/mitgliederversammlung-der-sp-frauen-2-2/
END:VEVENT
END:VCALENDAR