BEGIN:VCALENDAR
VERSION:2.0
PRODID:-//SP Schweiz - ECPv6.15.14//NONSGML v1.0//EN
CALSCALE:GREGORIAN
METHOD:PUBLISH
X-WR-CALNAME:SP Schweiz
X-ORIGINAL-URL:https://www.sp-ps.ch
X-WR-CALDESC:Veranstaltungen für SP Schweiz
REFRESH-INTERVAL;VALUE=DURATION:PT1H
X-Robots-Tag:noindex
X-PUBLISHED-TTL:PT1H
BEGIN:VTIMEZONE
TZID:Europe/Zurich
BEGIN:DAYLIGHT
TZOFFSETFROM:+0100
TZOFFSETTO:+0200
TZNAME:CEST
DTSTART:20220327T010000
END:DAYLIGHT
BEGIN:STANDARD
TZOFFSETFROM:+0200
TZOFFSETTO:+0100
TZNAME:CET
DTSTART:20221030T010000
END:STANDARD
BEGIN:DAYLIGHT
TZOFFSETFROM:+0100
TZOFFSETTO:+0200
TZNAME:CEST
DTSTART:20230326T010000
END:DAYLIGHT
BEGIN:STANDARD
TZOFFSETFROM:+0200
TZOFFSETTO:+0100
TZNAME:CET
DTSTART:20231029T010000
END:STANDARD
BEGIN:DAYLIGHT
TZOFFSETFROM:+0100
TZOFFSETTO:+0200
TZNAME:CEST
DTSTART:20240331T010000
END:DAYLIGHT
BEGIN:STANDARD
TZOFFSETFROM:+0200
TZOFFSETTO:+0100
TZNAME:CET
DTSTART:20241027T010000
END:STANDARD
END:VTIMEZONE
BEGIN:VEVENT
DTSTART;TZID=Europe/Zurich:20230930T133000
DTEND;TZID=Europe/Zurich:20230930T163000
DTSTAMP:20260420T213104
CREATED:20230819T171158Z
LAST-MODIFIED:20230930T052221Z
UID:109288-1696080600-1696091400@www.sp-ps.ch
SUMMARY:Mitgliederversammlung SP Frauen
DESCRIPTION:An unserer Mitgliederversammlung vom 30. September diskutieren wir über feministische Bündnisarbeit\, bereiten uns auf die bevorstehende Rentendebatte vor und wählen zwei neue GL-Mitglieder und 10 Parteitagsdelegierte.\nDa wir Ende September mitten im Wahlkampf stecken\, werden wir an diesem Tag selbstverständlich auch für die Wahlen mobilisieren: Von 10.00 bis 12.00 Uhr versuchen wir möglichst viele Wähler:innen telefonisch zu erreichen und sie daran zu erinnern\, die SP zu wählen. \nDatum:\nSamstag\, 30. September 2023 \nZeit:\n10.00 bis 12.00 Uhr: Telefonieren für die Wahlen\n13.30 bis 16.00 Uhr: Mitgliederversammlung \nOrt:\nFarelhaus\, Oberer Quai 12\, 2503 Biel \nTraktandenliste\nGeschäftsordnung\nA1: Mitgliedschaft alliance F\nA2: Frauen für gute Renten\nProtokoll der MV vom 25. März \nWahlen\nAn unserer MV wählen wir zwei neue Mitglieder der Geschäftsleitung.\nEingegangene Kandidaturen (Die Motivationsschreiben werden an alle angemeldeten Genossinnen verschickt): \n\nMandy Abou Shoak\nAleksandra Zdravkovic\n\nEbenfalls wählen wir 10 Delegierte für die SP-Parteitage.\nEingegangene Kandidaturen: \n\nMarilena Corti\, bisher\, Solothurn\nVirginia Koepfli\, bisher\, Zug\nTomoko Latteier\, neu\, Basel-Stadt\nSophie Laville\, neu\, Basel-Stadt\nJanine Meier\, neu\, Basel-Stadt\nMoana Mika\, neu\, Bern\nEstelle Revaz\, bisher\, Genève\nMartine Rouiller\, neu\, Valais romand\nLaurie Willommet\, bisher\, Vaud\n\nFristen Kandidaturen\, Resolutionen und Anträge\nDie Frist für Kandidaturen\, Resolutionen und Anträge ist am 9. September abgelaufen. \nWir freuen uns\, dich am 30. September in Biel begrüssen zu dürfen!
URL:https://www.sp-ps.ch/veranstaltung/mv-spfrauen-30-9-23/
LOCATION:Farelhaus Biel\, Oberer Quai 12 / Quai du haut 12\, Biel / Bienne\, 2502
ATTACH;FMTTYPE=image/jpeg:https://www.sp-ps.ch/wp-content/uploads/2023/08/A7B01696-scaled.jpeg
END:VEVENT
END:VCALENDAR