BEGIN:VCALENDAR
VERSION:2.0
PRODID:-//SP Schweiz - ECPv6.15.14//NONSGML v1.0//EN
CALSCALE:GREGORIAN
METHOD:PUBLISH
X-WR-CALNAME:SP Schweiz
X-ORIGINAL-URL:https://www.sp-ps.ch
X-WR-CALDESC:Veranstaltungen für SP Schweiz
REFRESH-INTERVAL;VALUE=DURATION:PT1H
X-Robots-Tag:noindex
X-PUBLISHED-TTL:PT1H
BEGIN:VTIMEZONE
TZID:Europe/Zurich
BEGIN:DAYLIGHT
TZOFFSETFROM:+0100
TZOFFSETTO:+0200
TZNAME:CEST
DTSTART:20210328T010000
END:DAYLIGHT
BEGIN:STANDARD
TZOFFSETFROM:+0200
TZOFFSETTO:+0100
TZNAME:CET
DTSTART:20211031T010000
END:STANDARD
BEGIN:DAYLIGHT
TZOFFSETFROM:+0100
TZOFFSETTO:+0200
TZNAME:CEST
DTSTART:20220327T010000
END:DAYLIGHT
BEGIN:STANDARD
TZOFFSETFROM:+0200
TZOFFSETTO:+0100
TZNAME:CET
DTSTART:20221030T010000
END:STANDARD
BEGIN:DAYLIGHT
TZOFFSETFROM:+0100
TZOFFSETTO:+0200
TZNAME:CEST
DTSTART:20230326T010000
END:DAYLIGHT
BEGIN:STANDARD
TZOFFSETFROM:+0200
TZOFFSETTO:+0100
TZNAME:CET
DTSTART:20231029T010000
END:STANDARD
END:VTIMEZONE
BEGIN:VEVENT
DTSTART;VALUE=DATE:20221111
DTEND;VALUE=DATE:20221112
DTSTAMP:20260420T181410
CREATED:20211020T132456Z
LAST-MODIFIED:20221219T102423Z
UID:59049-1668124800-1668211199@www.sp-ps.ch
SUMMARY:Parteiratssitzung SP Schweiz
DESCRIPTION:Hier findest du die an der Parteiratssitzung vom 11. November 2022 in Bellinzona beschlossenen Dokumente. \n\nPositionspapier: Armut in der Schweiz\nResolution: Digitale Selbstbestimmung\nResolution: In der Gleichstellung endlich vorankommen – konkret und auf allen Ebenen\nResolution: Anerkennung und Behandlung von Long Covid\, Unterstützung der Beschäftigten im Gesundheitswesen
URL:https://www.sp-ps.ch/veranstaltung/parteiratssitzung-sp-schweiz/
LOCATION:Bellinzona
CATEGORIES:Parteirat
END:VEVENT
END:VCALENDAR