BEGIN:VCALENDAR
VERSION:2.0
PRODID:-//SP Schweiz - ECPv6.15.14//NONSGML v1.0//EN
CALSCALE:GREGORIAN
METHOD:PUBLISH
X-WR-CALNAME:SP Schweiz
X-ORIGINAL-URL:https://www.sp-ps.ch
X-WR-CALDESC:Veranstaltungen für SP Schweiz
REFRESH-INTERVAL;VALUE=DURATION:PT1H
X-Robots-Tag:noindex
X-PUBLISHED-TTL:PT1H
BEGIN:VTIMEZONE
TZID:Europe/Zurich
BEGIN:DAYLIGHT
TZOFFSETFROM:+0100
TZOFFSETTO:+0200
TZNAME:CEST
DTSTART:20110327T010000
END:DAYLIGHT
BEGIN:STANDARD
TZOFFSETFROM:+0200
TZOFFSETTO:+0100
TZNAME:CET
DTSTART:20111030T010000
END:STANDARD
BEGIN:DAYLIGHT
TZOFFSETFROM:+0100
TZOFFSETTO:+0200
TZNAME:CEST
DTSTART:20120325T010000
END:DAYLIGHT
BEGIN:STANDARD
TZOFFSETFROM:+0200
TZOFFSETTO:+0100
TZNAME:CET
DTSTART:20121028T010000
END:STANDARD
BEGIN:DAYLIGHT
TZOFFSETFROM:+0100
TZOFFSETTO:+0200
TZNAME:CEST
DTSTART:20130331T010000
END:DAYLIGHT
BEGIN:STANDARD
TZOFFSETFROM:+0200
TZOFFSETTO:+0100
TZNAME:CET
DTSTART:20131027T010000
END:STANDARD
END:VTIMEZONE
BEGIN:VEVENT
DTSTART;TZID=Europe/Zurich:20120908T100000
DTEND;TZID=Europe/Zurich:20120909T200000
DTSTAMP:20260423T093539
CREATED:20120907T220000Z
LAST-MODIFIED:20221201T140813Z
UID:58571-1347098400-1347220800@www.sp-ps.ch
SUMMARY:Parteitag Lugano
DESCRIPTION:Samstag\, 8. September 2012\n11:40 \nMarilena Ranzi\, Präsidentin der SP Lugano eröffnet den Parteitag mit einer kurzen Ansprache. Saverio Lurati\, Präsident der SP Tessin\, hält die Eröffnungsrede. \n12:40\nRede von SP-Präsident Christian Levrat \n13:10 Parteiprogramm\nAktuelles Traktandum: Rückkommensanträge zum Parteiprogramm 2010. Christian Levrat betont\, dass die richtige Zeit zur Diskussion während des Parteitags in Lausanne war\, wo das Parteiprogramm mit grossem Mehr angenommen wurde. \nDieser Rückkommensantrag der SP Münchenbuchsee wird klar abgelehnt und der Antrag der Geschäftsleitung\, einen Protokollfehler zu korrigieren\, angenommen. \n13:15 Kurzfassung Parteiprogramm\nDie Fassung von Willy Spieler obsiegt mit 199 gegen 152 und wird in der Schlussabstimmung mit grossem Mehr angenommen. Der Antrag\, die Diskussion um die Kurzfassung auf einen anderen Parteitag zu verschieben\, wird deutlich abgelehnt. \n14:20\nRede Bundesrätin Simonetta Sommaruga \n14:30 Migrationspapier\nDer Antrag für eine Präambel wird von den Delegierten abgelehnt.\nNach einer langen Diskussion werden die Rückweisungsanträge deutlich abgelehnt. \n16:00\nDie Diskussion zum Migrationspapier wird unterbrochen und am Sonntag fortgeführt. \n17:35\nRede Bundesrat Alain Berset \n17:50\nDie JUSO Schweiz präsentiert ihre Initiative gegen die Nahrungsmittelspekulation \n18:10\nDer erste Parteitags-Tag ist vorüber! \nSonntag\, 9. September 2012\n09:10\nDer zweite Tag des Parteitages beginnt mit der Wahl des Präsidiums. Als erstes wird Präsident Christian Levrat ohne Gegenstimmen und unter grossem Applaus wiedergewählt! \nAuch die anderen bisherigen Vize-PräsidentInnen  Marina Carobbio\, Andy Tschumperlin\, David Roth und Jacqueline Fehr werden per Akklamation wiedergewählt. \nDie beiden neuen Sitze werden separat gewählt\, zuerst wird der freigewordene Sitz der zurückgetretenen SP-Vizepräsidentin besetzt. Alle Kandidierenden haben drei Minuten Zeit\, sich den Delegierten vorzustellen\, dazu können sie je zwei Personen für sich sprechen lassen. Die Resultate der Kandidierenden werden gleichzeitig bekannt gegeben. \n09:30\nDie zwei Kandidierenden auf den freigewordenen Sitz von Pascale Bruderer\, Barbara Gysi und Hans Stöckli\, stellen sich vor. \n10:00\nNun präsentieren sich Carlo Sommaruga und Géraldine Savary\, die sich für den Sitz des zurückgetretenen SP-Vizepräsidenten Stéphane Rossini bewerben. \n11:00 Wahl des Vizepräsidiums\nNeu ins Präsidium gewählt sind Barbara Gysi und Géraldine Savary. Herzliche Gratulation! \n10:30\nWir kommen zur Wahl der drei durch den Parteitag wählbaren Geschäftsleitungssitze. Die Kandidierenden haben wiederum drei Minuten Zeit\, sich den Delegierten vorzustellen. Es bewerben sich fünf KandidatInnen\, so dass es auch hier zu einer Kampfwahl kommt. \n10:35\nEs beginnen die beiden Bisherigen Valentina Smajli und Barbara Gysel. Anschliessend stellen sich die neu kandidierenden Mario Carera\, Lathan Suntharalingam und Vera Ziswiler vor. \n11:30  Wahl der Geschäftsleitung\nGewählt in die Geschäftsleitung sind die neu angetretenen Mario Carera\, Lathan Suntharalingam und Vera Ziswilerl. Herzliche Gratulation! \n11:35 Aktion zum Gotthard der PS Ticino\nVerschiedene Experten und Mediziner sprechen über die gesundheitlichen Einflüsse des bestehenden Gotthardtunnels und die Risiken\, die beim Bau einer zweiten Röhre noch erhöht würden. Ebenfalls wird betont dass der Eindruck\, das Tessin stehe hinter diesen zweiten Röhre\, nicht stimmt. \n12:15\nDie Diskussion um das Migrationspapier wird fortgesetzt. \n14:45 Schlussabstimmung\nDas Migrationspapier wird bei einigen Gegenstimmen verabschiedet. \n15:20 Parolenfassung zu den Abstimmungen vom November \n\nJa zum Tierseuchengesetz\nNein zur Abgeltungssteuer\n\n15:45 Ende des Parteitages \n\n\n\n\n\n\n\n        \n            \n                                                \n\n                                        \n                        523556_10151868139689897_1013401978_n527016_10151868373434897_1361227731_n_-_kopiealain-berset-parteitag-lugano-20120908_largebarbara-gysi-parteitag-lugano-20120909_largecarlo-sommaruga-parteitag-lugano-20120909_largedavid-roth-parteitag-lugano-20120908_largegeraldine-savary-parteitag-lugano-20120909_largehans-stoeckli-parteitag-lugano-20120909_largeneue-gl-parteitag-lugano-20120909_mainstory1neue-vizepraesidentinnen-parteitag-20120909_mainstory1                    \n\n                                    \n            \n        \n        \nWeitere Fotos zum Parteitag in Lugano finden Sie auf unserer Facebook-Seite \n\nBewerbung Carlo Sommaruga\nCV Carlo Sommaruga\nBewerbung Barbara Gysi\nCV Barbara Gysi\nBewerbung Géraldine Savary\nCV Géraldine Savary\nMotivationsschreiben Mario Carera\nCV Mario Carera\nMotivationsschreiben Lathan Suntharalingam\nCV Lathan Suntharalingam\nMotivationsschreiben Vera Ziswiler\nCV Vera Ziswiler\nResolution der GL zu den SP-MigrantInnen\nResolution der GL Gegen Straflosigkeit und für die Menschenrechte in Russland\nMigrationspapier definitive Fassung\nMigrationspapier zweiter Entwurf vom 29.06.2012\nAntragsheft Migrationspapier zweiter Entwurf\nBeiheft zum Migrationspapier\nMerkblatt Anträge Migrationspapier\nTischvorlage Parteitag Lugano\nAnträge Kurzfassung Parteiprogramm\nEinladung Delegierte\nAnmeldeformular Parteitag Lugano\nEinladung Parteitag Lugano\nGeschäftsbericht 2010 – 2011\nKurzfassung Parteiprogramm\nProtokoll Wahlparteitag 2011 Zürich
URL:https://www.sp-ps.ch/veranstaltung/parteitag-lugano/
CATEGORIES:Parteitag
END:VEVENT
END:VCALENDAR