BEGIN:VCALENDAR
VERSION:2.0
PRODID:-//SP Schweiz - ECPv6.15.14//NONSGML v1.0//EN
CALSCALE:GREGORIAN
METHOD:PUBLISH
X-WR-CALNAME:SP Schweiz
X-ORIGINAL-URL:https://www.sp-ps.ch
X-WR-CALDESC:Veranstaltungen für SP Schweiz
REFRESH-INTERVAL;VALUE=DURATION:PT1H
X-Robots-Tag:noindex
X-PUBLISHED-TTL:PT1H
BEGIN:VTIMEZONE
TZID:Europe/Zurich
BEGIN:DAYLIGHT
TZOFFSETFROM:+0100
TZOFFSETTO:+0200
TZNAME:CEST
DTSTART:20210328T010000
END:DAYLIGHT
BEGIN:STANDARD
TZOFFSETFROM:+0200
TZOFFSETTO:+0100
TZNAME:CET
DTSTART:20211031T010000
END:STANDARD
BEGIN:DAYLIGHT
TZOFFSETFROM:+0100
TZOFFSETTO:+0200
TZNAME:CEST
DTSTART:20220327T010000
END:DAYLIGHT
BEGIN:STANDARD
TZOFFSETFROM:+0200
TZOFFSETTO:+0100
TZNAME:CET
DTSTART:20221030T010000
END:STANDARD
BEGIN:DAYLIGHT
TZOFFSETFROM:+0100
TZOFFSETTO:+0200
TZNAME:CEST
DTSTART:20230326T010000
END:DAYLIGHT
BEGIN:STANDARD
TZOFFSETFROM:+0200
TZOFFSETTO:+0100
TZNAME:CET
DTSTART:20231029T010000
END:STANDARD
END:VTIMEZONE
BEGIN:VEVENT
DTSTART;TZID=Europe/Zurich:20220702T080000
DTEND;TZID=Europe/Zurich:20220703T130000
DTSTAMP:20260420T184417
CREATED:20230117T145520Z
LAST-MODIFIED:20230131T091741Z
UID:89252-1656748800-1656853200@www.sp-ps.ch
SUMMARY:Sommertagung: Gemeinsam Zukunft Gestalten
DESCRIPTION:Ort: Kongresshaus\, Zentralstrasse 60\, Biel\nSAMSTAG\, 2. JULI 2022\n\n\n\n10:30\nBegrüssung\, Einleitung (Übersetzung DE-FR)\nCédric Wermuth\, Co-Präsident SP Schweiz\n\n\n10:45\nDie Zukunft der schweizerischen Energieversorgung (Übersetzung DE FR)Bundesrätin Simonetta Sommaruga\n\n\n11:15\nPolitik in Krisenzeiten (Übersetzung FR-DE)Bundesrat Alain Berset im Gespräch\n\n\n12:00\nDie Schweiz und der Rohstoffhandel (Übersetzung DE-FR)Angela Mattli\, Fachleitung Rohstoffe-Handel-Finanzen\, Public Eye\n\n\n12.30\nMittagspause\n\n\n13:30 –15:30\nVertiefungsformate 1\n\n\n\nWorkshop 1.1 (Raum 1)Das Ende des fossilen Kapitalismus: Wie werden wir unabhängig von fossilen Energieträgern? (FR-DE)\nProf. Julia K. Steinberger\, Universität Lausanne\, Gabriela Suter\, Nationalrätin SP Schweiz\n\n\n\nWorkshop 1.2 (Raum 5)Die Schweiz als Drehscheibe globaler Geld- und Warenströme (DE)Andreas Missbach\, Geschäftsleiter Alliance SudDr. Lea Haller\, Redaktionsleiterin NZZ Geschichte\n\n\n\nWorkshop 1.3 (Raum 2)Steigende Energiepreise und Inflation: Massnahmen zur sozialen Abfederung (DE)\nSamira Marti\, Nationalrätin SP Schweiz\n\n\n\nWorkshop 1.4 (Vereinssaal)Vertrauensbildende Verteidigung: Was bedeutet «Verteidigung» in der Zukunft? (DE- FR)Peter Hug\, ehemaliger Politischer Fachsekretär SP Schweiz der Bundeshausfraktion für Aussen- und Sicherheitspolitik\n\n\nPause\n\n\n\n  \n\n\n\n16:00 –18:00\nVertiefungsformat 2\n\n\n\nWorkshop 2.1 (Raum 1)Das Ende des fossilen Kapitalismus: Wie werden wir unabhängig von fossilen Energieträgern? (DE-FR)Gabriela Suter\, Nationalrätin SP Schweiz\n\n\n\nWorkshop 2.3 (Raum 5)Funktion und Wirkung von Sanktionen (DE)\nSeverin Meier\, Politischer Sekretär SP Schweiz\n\n\n\nWorkshop 2.4 (Raum 2)Sécurité et défense de la Suisse (FR)Pierre-Alain Fridez\, Nationalrat SP Schweiz\n\n\n\nWorkshop 2.5 (Vereinssaal)Schutzbedürftigkeit statt Herkunft: Perspektiven für eine Gleichbehandlung geflüchteter Menschen (DE-FR)Claudio Marti\, Politischer Sekretär SP Schweiz\n\n\n18:30\nApéro\n\n\n20:00\nAbendessen (Restaurant Ecluse)\n\n\n\n  \nSONNTAG\, 3. JULI 2022\n\n\n\n10:00 –12:00\nVertiefungsformat 3\n\n\n\nWorkshop 3.2 (Vereinssaal)Geschichte der Schweizer Neutralität und aktuelle Herausforderungen (FR- DE)Prof. Irène Herrmann\, Professeure ordinaire en histoire transnationale de la Suisse\, Universität Genf\n\n\n\nWorkshop 3.3 (Raum 5)Wie weiter in der Friedensbewegung? Über Aufrüstung\, Bedrohungsanalysen\, Waffenexporte und Atomkriegsgefahr (DE-FR)Andreas Weibel\, Vorstandsmitglied GSoA\n\n\n\nWorkshop 3.4 (Raum 1)Feministische Aussenpolitik (DE)Sophie von Wartburg\, Beraterin (MA Politik- und Rechtswissenschaft)Hannah Reinl\, Co-Programmleiterin Gender\, foraus\n\n\n12:00 –12:30\nMenschenrechte in einer volatilen Welt: Erwartungen an die Schweiz (DE-FR)Alexandra Karle\, Geschäftsleiterin Amnesty International Schweiz\n\n\n12:30 –13.00\nResümee (Übersetzung DE-FR)Mattea Meyer\, Cédric Wermuth\, Co-Präsidium SP Schweiz\n\n\n13:00\nAbschluss
URL:https://www.sp-ps.ch/veranstaltung/sommertagung-gemeinsam-zukunft-gestalten-2/
CATEGORIES:Bildung
END:VEVENT
END:VCALENDAR