BEGIN:VCALENDAR
VERSION:2.0
PRODID:-//SP Schweiz - ECPv6.15.14//NONSGML v1.0//EN
CALSCALE:GREGORIAN
METHOD:PUBLISH
X-WR-CALNAME:SP Schweiz
X-ORIGINAL-URL:https://www.sp-ps.ch
X-WR-CALDESC:Veranstaltungen für SP Schweiz
REFRESH-INTERVAL;VALUE=DURATION:PT1H
X-Robots-Tag:noindex
X-PUBLISHED-TTL:PT1H
BEGIN:VTIMEZONE
TZID:Europe/Zurich
BEGIN:DAYLIGHT
TZOFFSETFROM:+0100
TZOFFSETTO:+0200
TZNAME:CEST
DTSTART:20140330T010000
END:DAYLIGHT
BEGIN:STANDARD
TZOFFSETFROM:+0200
TZOFFSETTO:+0100
TZNAME:CET
DTSTART:20141026T010000
END:STANDARD
BEGIN:DAYLIGHT
TZOFFSETFROM:+0100
TZOFFSETTO:+0200
TZNAME:CEST
DTSTART:20150329T010000
END:DAYLIGHT
BEGIN:STANDARD
TZOFFSETFROM:+0200
TZOFFSETTO:+0100
TZNAME:CET
DTSTART:20151025T010000
END:STANDARD
BEGIN:DAYLIGHT
TZOFFSETFROM:+0100
TZOFFSETTO:+0200
TZNAME:CEST
DTSTART:20160327T010000
END:DAYLIGHT
BEGIN:STANDARD
TZOFFSETFROM:+0200
TZOFFSETTO:+0100
TZNAME:CET
DTSTART:20161030T010000
END:STANDARD
END:VTIMEZONE
BEGIN:VEVENT
DTSTART;TZID=Europe/Zurich:20150509T081500
DTEND;TZID=Europe/Zurich:20150509T081500
DTSTAMP:20260419T212949
CREATED:20150328T130832Z
LAST-MODIFIED:20230404T185258Z
UID:59077-1431159300-1431159300@www.sp-ps.ch
SUMMARY:Tagung SP MigrantInnen
DESCRIPTION:An der Tagung vom 9. Mai lancierten die SP MigrantInnen den Wahlkampf\, verabschiedeten ein Wahlmanifest und wählten das Präsidium der SP MigrantInnen. Im Zentrum stand die Frage\, wie die politische Stimme der MigrantInnen in der Schweiz im Wahlherbst 2015 laut und deutlich erhoben und der Anspruch auf eine angemessene Vertretung in den eidgenössischen Räten durchgesetzt werden kann. \n\n\n\n\n\n\n\n        \n            \n                                                \n\n                                        \n                        img_9618_2img_9628_2img_9636_2img_9645_2img_9652_2img_9688_2img_9700_2img_9701_2img_9708_2img_9710_2img_9724_2img_9729_2img_9730_2img_9736_2img_9744_2img_9759_2img_9775_2img_9794_2img_9799_2img_9805_2img_9810_2img_9814_2
URL:https://www.sp-ps.ch/veranstaltung/tagung-sp-migrantinnen/
END:VEVENT
END:VCALENDAR