BEGIN:VCALENDAR
VERSION:2.0
PRODID:-//SP Schweiz - ECPv6.15.14//NONSGML v1.0//EN
CALSCALE:GREGORIAN
METHOD:PUBLISH
X-WR-CALNAME:SP Schweiz
X-ORIGINAL-URL:https://www.sp-ps.ch
X-WR-CALDESC:Veranstaltungen für SP Schweiz
REFRESH-INTERVAL;VALUE=DURATION:PT1H
X-Robots-Tag:noindex
X-PUBLISHED-TTL:PT1H
BEGIN:VTIMEZONE
TZID:Europe/Zurich
BEGIN:DAYLIGHT
TZOFFSETFROM:+0100
TZOFFSETTO:+0200
TZNAME:CEST
DTSTART:20210328T010000
END:DAYLIGHT
BEGIN:STANDARD
TZOFFSETFROM:+0200
TZOFFSETTO:+0100
TZNAME:CET
DTSTART:20211031T010000
END:STANDARD
BEGIN:DAYLIGHT
TZOFFSETFROM:+0100
TZOFFSETTO:+0200
TZNAME:CEST
DTSTART:20220327T010000
END:DAYLIGHT
BEGIN:STANDARD
TZOFFSETFROM:+0200
TZOFFSETTO:+0100
TZNAME:CET
DTSTART:20221030T010000
END:STANDARD
BEGIN:DAYLIGHT
TZOFFSETFROM:+0100
TZOFFSETTO:+0200
TZNAME:CEST
DTSTART:20230326T010000
END:DAYLIGHT
BEGIN:STANDARD
TZOFFSETFROM:+0200
TZOFFSETTO:+0100
TZNAME:CET
DTSTART:20231029T010000
END:STANDARD
END:VTIMEZONE
BEGIN:VEVENT
DTSTART;TZID=Europe/Zurich:20221105T120000
DTEND;TZID=Europe/Zurich:20221106T150000
DTSTAMP:20260420T184210
CREATED:20220715T125507Z
LAST-MODIFIED:20220715T125507Z
UID:111896-1667649600-1667746800@www.sp-ps.ch
SUMMARY:Vernetzungswochenende mit Simonetta Sommaruga
DESCRIPTION:Im Centre Löwenberg in Murten. \nWir bereiten uns auf die Wahlen ´23 vor\, wir stärken unser Netzwerk\, vertiefen unsere Kenntnisse in verschiedenen politischen Dossiers und helfen uns gegenseitig aus mit Tipps und Tricks zur besseren Bewältigung unseres nicht immer einfachen Politikerinnenalltags. Interessiert? Dann melde dich bis zum 14. August an. Wir freuen uns! \n\nHier geht es zum Programm\nHier geht es zum Anmeldeformular mit allen Detailinformationen\n\nFragen? Einfach hier melden: frauen@spschweiz.ch
URL:https://www.sp-ps.ch/veranstaltung/vernetzungswochenende-mit-simonetta-sommaruga/
END:VEVENT
END:VCALENDAR