BEGIN:VCALENDAR
VERSION:2.0
PRODID:-//SP Schweiz - ECPv6.15.14//NONSGML v1.0//EN
CALSCALE:GREGORIAN
METHOD:PUBLISH
X-WR-CALNAME:SP Schweiz
X-ORIGINAL-URL:https://www.sp-ps.ch
X-WR-CALDESC:Veranstaltungen für SP Schweiz
REFRESH-INTERVAL;VALUE=DURATION:PT1H
X-Robots-Tag:noindex
X-PUBLISHED-TTL:PT1H
BEGIN:VTIMEZONE
TZID:Europe/Zurich
BEGIN:DAYLIGHT
TZOFFSETFROM:+0100
TZOFFSETTO:+0200
TZNAME:CEST
DTSTART:20210328T010000
END:DAYLIGHT
BEGIN:STANDARD
TZOFFSETFROM:+0200
TZOFFSETTO:+0100
TZNAME:CET
DTSTART:20211031T010000
END:STANDARD
BEGIN:DAYLIGHT
TZOFFSETFROM:+0100
TZOFFSETTO:+0200
TZNAME:CEST
DTSTART:20220327T010000
END:DAYLIGHT
BEGIN:STANDARD
TZOFFSETFROM:+0200
TZOFFSETTO:+0100
TZNAME:CET
DTSTART:20221030T010000
END:STANDARD
BEGIN:DAYLIGHT
TZOFFSETFROM:+0100
TZOFFSETTO:+0200
TZNAME:CEST
DTSTART:20230326T010000
END:DAYLIGHT
BEGIN:STANDARD
TZOFFSETFROM:+0200
TZOFFSETTO:+0100
TZNAME:CET
DTSTART:20231029T010000
END:STANDARD
END:VTIMEZONE
BEGIN:VEVENT
DTSTART;TZID=Europe/Zurich:20220903T100000
DTEND;TZID=Europe/Zurich:20220903T130000
DTSTAMP:20260420T203845
CREATED:20230110T140741Z
LAST-MODIFIED:20230424T110258Z
UID:88868-1662199200-1662210000@www.sp-ps.ch
SUMMARY:Webinar: 50 Jahre Grenzen des Wachstums
DESCRIPTION:50 Jahre nach der Publikation des «Club of Rome» von 1972 stellt sich die Frage nach den Grenzen des Wachstums eindringlicher als je zuvor. Wer heute vom Klima spricht\, darf zum Wachstum nicht schweigen. Wie könnte eine weniger stark an Wachstum und stärker an «Suffizienz» orientierte sozialdemokratische Wirtschaftspolitik aussehen? Und was bedeutet dies für traditionell linke Themen wie soziale Sicherheit\, Verteilungsgerechtigkeit\, die Förderung von Genossenschaften oder die Demokratisierung der Wirtschaft? \nFür das Webinar vom 3. September konnten wir bekannte Fachleute gewinnen. Der Anlass gab einen Einblick in aktuelle Wachstums-Debatten und die Möglichkeiten einer Postwachstumsgesellschaft. Gemeinsam haben wir die Position der SP zur Wachstumsfrage diskutiert. \nOrt: Online \nZielpublikum: Mitglieder\, Interessierte\, Potentielle Mitglieder und Sympathisant:innen \nReferent:innen:  \n\nRoman Rossfeld\, Wachstum – Wirtschafts- und Kulturgeschichte eines Schlüsselbegriffs der Moderne\nSabin Bieri\, Feministische Wachstumskritik: Von Lückenbüsserinnen und Versorgungslücken\nStephanie Moser\, Zeit versus Geld: Zur Rolle von Zeitwohlstand (Zeit als neuen Wohlstand) angesichts der ökologischen Krise\nIrmi Seidl\, Unabhängigkeit vom Wachstum: Wege aus der ökonomischen Expansion\n\nModeration: Rebekka Wyler \nKosten: Kostenlos \nAnmeldung: Dieser Anlass hat bereits stattgefunden  \nNachversand:  \nReader für weiterführende Literatur  \nAufnahme des Webinars
URL:https://www.sp-ps.ch/veranstaltung/webinar-50-jahre-grenzen-des-wachstums/
CATEGORIES:Bildung,Mitglieder mit partei-internen Funktionen,Mitglieder, Sympathisant:innen, Interessierte
END:VEVENT
END:VCALENDAR